BEGIN:VCALENDAR
VERSION:2.0
PRODID:-//wp-events-plugin.com//7.2.3.1//EN
TZID:Australia/Sydney
X-WR-TIMEZONE:Australia/Sydney
BEGIN:VEVENT
UID:823@unswoc.org
DTSTART:20150402T130000Z
DTEND:20150410T130000Z
DTSTAMP:20150322T101803Z
URL:https://unswoc.org/wordpress/events/mt-arapiles-easter-trip/
SUMMARY:Mt. Arapiles - Easter Trip ADVANCED
DESCRIPTION:Hey everyone!\n\nSo this Easter/Mid Sem break a bunch of us are
  heading down to Australia's climbing Mecca\, the magnificent Mt Arapiles 
 :) So come along!\n\nEveryone is welcome\, however this is an advanced tri
 p\, you'll need to be a competent trad leader or have a partner to second 
 for.\n\nThe facebook event page is a good way for everyone to find lifts\,
  discuss gear and find a partner.\n\nSign up here for the club insurance.\
 nShoot me a message if I don't know you regarding who your partner is or i
 f you climb trad so I know to approve you!\n\nCheers boys n girls\,\nBrend
 an
ATTACH;FMTTYPE=image/jpeg:https://unswoc.org/wordpress/wp-content/uploads/
 2015/03/Kachoong.jpg
CATEGORIES:Outdoor Climbing
LOCATION:\, \, 
X-APPLE-STRUCTURED-LOCATION;VALUE=URI;X-ADDRESS=\, ;X-APPLE-RADIUS=100;X-TI
 TLE=:geo:0,0
END:VEVENT
END:VCALENDAR