BEGIN:VCALENDAR
VERSION:2.0
PRODID:-//wp-events-plugin.com//7.2.3.1//EN
TZID:Australia/Sydney
X-WR-TIMEZONE:Australia/Sydney
BEGIN:VEVENT
UID:2444@unswoc.org
DTSTART;TZID=Australia/Sydney;VALUE=DATE:20190804
DTEND;TZID=Australia/Sydney;VALUE=DATE:20190805
DTSTAMP:20190730T021807Z
URL:https://unswoc.org/wordpress/events/mountain-biking-royal-national-par
 k/
SUMMARY:Mountain Biking - Royal National Park
DESCRIPTION:Fun day riding the single track in the Royal National Park near
  Loftus and Heathcote on Sunday (4/8/19). The tracks range from beginner t
 o expert trails\, what we end up riding will depend on the experience leve
 l of the group. Meet at Loftus MTB carpark\, at 9:30ish (TBC). Should only
  take half the day so you'll be home safe by the afternoon. PLEASE MESSAGE
  ME (Hamish Prosser) on Facebook stating your mountain biking experience a
 nd whether or not you have a car.\n\nPacking List:\n\n 	A mountain bike\, 
 may come in handy at some point\n 	Helmet\n 	Bike spares (e.g. spare tube)
 \n 	Water\n 	Food\n\nNote: The club does not have any bikes so you'll need
  to provide your own.
CATEGORIES:Mountain Biking
END:VEVENT
BEGIN:VTIMEZONE
TZID:Australia/Sydney
X-LIC-LOCATION:Australia/Sydney
BEGIN:STANDARD
DTSTART:20190407T020000
TZOFFSETFROM:+1100
TZOFFSETTO:+1000
TZNAME:AEST
END:STANDARD
END:VTIMEZONE
END:VCALENDAR