BEGIN:VCALENDAR
VERSION:2.0
PRODID:-//wp-events-plugin.com//7.2.3.1//EN
TZID:Australia/Sydney
X-WR-TIMEZONE:Australia/Sydney
BEGIN:VEVENT
UID:2178@unswoc.org
DTSTART;VALUE=DATE:20171002
DTEND;VALUE=DATE:20171003
DTSTAMP:20171001T090531Z
URL:https://unswoc.org/wordpress/events/mountain-biking-oaks-trail/
SUMMARY:Mountain Biking: The Oaks Trail
DESCRIPTION:Come along to this beginner friendly Mountain Biking trip this 
 long weekend in the Blue Mountains. This Single day adventure will travel 
 from Woodford down to Glenbrook Station along The Oaks Fire Trail before h
 eading to the more technical (Intermediate) single track of Knapsack Reser
 ve (Technical ability required). Public Transport accessible so there's no
  excuse not to come along for a pedal. 
CATEGORIES:Mountain Biking
END:VEVENT
END:VCALENDAR