BEGIN:VCALENDAR
VERSION:2.0
PRODID:-//wp-events-plugin.com//7.2.3.1//EN
TZID:Australia/Sydney
X-WR-TIMEZONE:Australia/Sydney
BEGIN:VEVENT
UID:2275@unswoc.org
DTSTART;VALUE=DATE:20180818
DTEND;VALUE=DATE:20180819
DTSTAMP:20180814T071548Z
URL:https://unswoc.org/wordpress/events/mountain-biking-hornsby/
SUMMARY:Mountain Biking at Hornsby
DESCRIPTION:Hi everyone\, David and I will be running a mountain biking tri
 p this Saturday the 18th on some cross country tracks up in Hornsby. This 
 trip will be beginner friendly\, but you do need a mountain bike. We’ll 
 be meeting at 10 at Hornsby train station and then ride to the trails. I w
 ill also be catching the train from central so people are welcome to meet 
 me there.\n\n&nbsp\;\n\nYou will need:\n\n-bike\n\n-helmet\n\n-lunch\n\n-a
 t least 1L water\n\n-skillz\n\n&nbsp\;\n\nThings that are also a good idea
  to bring:\n\n-spare inner tube/repair kit\n\n-pump\n\n&nbsp\;\n\nYou can 
 check out the trails here: http://www.hornsby.nsw.gov.au/lifestyle/sports-
 and-recreation/biking/mountain-bike-trail\n\nIf you’d like to come\, mak
 e sure to message David Temesvary or me (Ash Brennan) with skill level\, t
 ype of bike and favourite fish.
END:VEVENT
END:VCALENDAR