BEGIN:VCALENDAR
VERSION:2.0
PRODID:-//wp-events-plugin.com//7.2.3.1//EN
TZID:Australia/Sydney
X-WR-TIMEZONE:Australia/Sydney
BEGIN:VEVENT
UID:2874@unswoc.org
DTSTART;TZID=Australia/Sydney;VALUE=DATE:20180210
DTEND;TZID=Australia/Sydney;VALUE=DATE:20180211
DTSTAMP:20210303T062532Z
URL:https://unswoc.org/wordpress/events/mount-york-climbing/
SUMMARY:Mount York Climbing
DESCRIPTION:\n\nCome along to Mount York on Saturday for some sport climbin
 g!\n\nLet me know in the comments whether you have a car and what your cli
 mbing experience is.\n\nYou will need:\n\n 	Helmet\n 	Harness\n 	Climbing 
 shoes\n 	Safety sling and locking carabiner\n 	ATC and locking carabiner\n
  	Food/water\n 	Sunscreen\n 	Backpack for all the above\n\nAny questions\,
  let me know via facebook :)
CATEGORIES:Outdoor Climbing
END:VEVENT
BEGIN:VTIMEZONE
TZID:Australia/Sydney
X-LIC-LOCATION:Australia/Sydney
BEGIN:DAYLIGHT
DTSTART:20171001T030000
TZOFFSETFROM:+1000
TZOFFSETTO:+1100
TZNAME:AEDT
END:DAYLIGHT
END:VTIMEZONE
END:VCALENDAR