BEGIN:VCALENDAR
VERSION:2.0
PRODID:-//wp-events-plugin.com//7.2.3.1//EN
TZID:Australia/Sydney
X-WR-TIMEZONE:Australia/Sydney
BEGIN:VEVENT
UID:509@unswoc.org
DTSTART:20140808T213000Z
DTEND:20140809T070000Z
DTSTAMP:20140803T190128Z
URL:https://unswoc.org/wordpress/events/mount-gibraltar-bouldering-climbin
 g-sess/
SUMMARY:Mount Gibraltar Bouldering and Climbing Sess
DESCRIPTION:&nbsp\;\n\n\n\nA trip brought to you by James Bultitude\, Matt 
 Hamlyn and Nicola Tan.\n\nSo\, we should all be a little bleary eyed after
  Friday nights pubgaine\, and some of you might be looking to do a little 
 climbing.  Here is your absolution from a hungover day of nothingness.\n\
 nMount Gibraltar (The Gib) is my favorite crag. It's close enough to sydne
 y\, has a nice view and has a wide variety of climbing on a different rock
  type to the normal sydney sandstone fare.  The guide is here\, But don't
  get too scared\, you can walk to the base of most routes.\n\nhttp://route
 s.sydneyrockies.org.au:8080/confluence/display/nswrock/Mt+Gibraltar\n\nA l
 ess complete guide is here.\n\nhttp://www.thecrag.com/climbing/australia/m
 t-gibraltar\n\nWe will allow up to 6  beginners to come along and jump on
  some top ropes and bouldering. For everyone else\, here are your options 
 for the day:\n\nBouldering:\n\nCurrently there is no bouldering developed 
 at The Gib. There are however a lot of good looking boulders. Bring a brus
 h\, some shoes and bouldering pads and have a boulder. Everything is a fi
 rst ascent! Make sure any thing you climb gets recorded. As the rock is ve
 ry hard\, you can use a wire brush for cleaning here. The potential varies
  from short and overhanging to slabby and highball.\n\nSport Climbing/ Top
  Roping:\n\nThe Area designate 14 wall in the guide will be getting some s
 hiny new bolts to replace some of its older\, crappier ones throughout the
  day. It will have top ropes set up on it. Bring some soft climbing shoes 
 and find out what this slab nonsense is all about. There is a variety of h
 arder funky sport climbing around as well.\n\nMultipitch Trad or Sport: \
 n\nThere are a number of awesomely good multi-pitches on offer. Ask me for
  a route idea and i'll give you one. In particular Big Bird is classic and
  sport bolted. There is even potential for some new trad routes to get cli
 mbed!\n\n&nbsp\;\n\nThere is no real cap on the number of experienced memb
 ers that can come. However\, everyone should contact me before they assume
  they are coming\, either via facebook (James Bultitude) or Call/Text me o
 n 0432866307.
CATEGORIES:Outdoor Climbing
LOCATION:Mt Gibraltar\, Mt Jellore Lookout\, Oxley Drive\, Mittagong\, Aust
 ralia
GEO:-34.462299;150.429062
X-APPLE-STRUCTURED-LOCATION;VALUE=URI;X-ADDRESS=Mt Jellore Lookout\, Oxley 
 Drive\, Mittagong\, Australia;X-APPLE-RADIUS=100;X-TITLE=Mt Gibraltar:geo:
 -34.462299,150.429062
END:VEVENT
END:VCALENDAR