BEGIN:VCALENDAR
VERSION:2.0
PRODID:-//wp-events-plugin.com//7.2.3.1//EN
TZID:Australia/Sydney
X-WR-TIMEZONE:Australia/Sydney
BEGIN:VEVENT
UID:2062@unswoc.org
DTSTART:20160930T200000Z
DTEND:20161002T090000Z
DTSTAMP:20160919T120413Z
URL:https://unswoc.org/wordpress/events/mount-donkey/
SUMMARY:Mount the Donkey!
DESCRIPTION:Hi folks\,\n\nOctober long weekend - 2 day (overnight) bushwalk
 ing trip of moderate difficulty departing early Saturday morning and retur
 ning Sunday evening. The destination - Donkey Mountain. For inspiration\, 
 see Sam's post:\nhttp://unswoc.org/wordpress/2015/11/03/ass-donkey-mounta
 in/\n\nThe plan will be to carry water and all our camping gear up to the 
 Grand Entrance\, duck in and drop packs in the grand hall or other suitabl
 e sheltered campsite and then explore the tops of Donkey Mountain for the 
 afternoon\, before returning to camp for the evening. Further exploration 
 on Sunday morning\, then after lunch drop back down to the car(s).\n\nThe 
 walking is all off track\, not too scrubby but with some rock scrambling a
 nd canyon exploration. We will also need to carry all our water unless the
 re is rain forecast\, and the climb up to the tops is very steep so modera
 te fitness (or sheer determination) is required.\n\nIf interested\, please
  sign up and if I haven't walked with you before please email stevenmhare 
 [at] gmail dot com and advise of your bushwalking experience and if possib
 le nominate a committee member that can vouch for your abilities.\n\nI can
  pick up participants at Strathfield Station - I am keen to get away early
  so it will be 0730 pickup at Strathfield. Drop off back at Strathfield li
 kely in the evening (6-8pm) Sunday. Likely cost around $10 petrol contribu
 tion.
CATEGORIES:Bushwalking
END:VEVENT
END:VCALENDAR