BEGIN:VCALENDAR
VERSION:2.0
PRODID:-//wp-events-plugin.com//7.2.3.1//EN
TZID:Australia/Sydney
X-WR-TIMEZONE:Australia/Sydney
BEGIN:VEVENT
UID:3780@unswoc.org
DTSTART;TZID=Australia/Sydney;VALUE=DATE:20260401
DTEND;TZID=Australia/Sydney;VALUE=DATE:20260402
DTSTAMP:20260401T225349Z
URL:https://unswoc.org/wordpress/events/moree-log-term-3-2026/
SUMMARY:Moree Log – Term 3 2026
DESCRIPTION:UNSWOC Boree Log Term 3 2026\n'Moree Takeover'\nSign ups open 7
 :00 AM Wednesday April 01st\n**Please ensure you read the ENTIRE post\, th
 ere is a hidden question below that you must answer in your comment when y
 ou request to join. You will not be accepted if you do not answer this que
 stion – this is for safety reasons so that we know you are informed of a
 ll important information for the trip**\n\n\n\n&nbsp\;\n\nHey everyone!\n\
 nBoree Log\, the most highly anticipated event in the club calendar\, is r
 ight around the corner in six months time!! For anyone who hasn’t been t
 o a previous Boree Log\, get ready a weekend of camping\, partying\, and o
 utdoors fun!\n\n&nbsp\;\n\nDue to the closure of Mt Wilson Road from this 
 Friday\, Boree Log in term 3 cannot be held at Cathedral of Ferns Campgrou
 nd as has been done since the dawn of time (see https://www.bmcc.nsw.gov.a
 u/mount-wilson-road-mount-wilson).\n\nAdditionally\, due to the closure of
  roads such as Victoria Pass and Wolgan Road and rising fuel prices making
  locations like Nowra infeasible\, we have decided to leverage NSW's high 
 speed regional rail network.\n\n&nbsp\;\n\nItinerary:\n\nPlease note that 
 due to train schedules\, we can only offer one day of activities\n\nFriday
  16 October:\n\n 	Meet at Central station at 09:00am.\n 	Take the 09:35 tr
 ain to Moree\, arriving at 6pm.\n 	The train runs once a day and it's an 8
  hour drive so don't miss it!\n\nSaturday 17 October:\n\n 	Everyone will s
 plit into smaller groups for trips! \n 	In the arvo we will all return to
  the campground and everyone will get into their costumes for the evening 
 activities\n 	Various games\, free dinner\, and punch of punishment!\n\nSu
 nday 18 October:\n\n 	Take the 08:00am train back to Sydney.\n\n&nbsp\;\n\
 nTrip Schedule:\n\nA full trip schedule will be posted later\, but an indi
 cative schedule is below:\n\nBouldering: Available at Glen Innes\, a 3 hou
 r coach ride away. Glen Innes and surrounds\, Bouldering | theCrag\n\nRock
  Climbing: Trad Climbing available at Mt Kaputar\, a 1 hour train ride awa
 y. Kaputar\, Trad climbing | theCrag\n\nHiking: A lovely circuit incorpora
 ting waterfalls and great views\, a 4 hour coach ride away. Gibraltar-Wash
 pool World Heritage walk | NSW National Parks\n\nTrail Running: A short 66
 4km route with 12km of elevation gain\, all the way back to Sydney. Explor
 e Moree to Sydney | AllTrails\n\nWhitewater Kayaking: A beautiful 139km ro
 ute along the Clarence River. Put in at Jackadgery\, a 5 hour coach ride a
 way. Take out at Grafton Station. Clarence Canoe and Kayak Trail - Clarenc
 e Valley\n\nCanyoning: A spectacular canyon at Leura\, a 13 hour train rid
 e away. Empress Canyon | NSW National Parks\n\n&nbsp\;\n\nFrequently Asked
  Questions:\n\nQ: Can I charge my phone on the train?\n\nA: No\, the regio
 nal trains predate the invention of the USB.\n\nQ: Can I bring a hairdryer
 /microwave?\n\nA: No\, we have no power at the campground.\n\nQ: Are there
  any toilet facilities?\n\nA: There are drop toilets. No running water. Pl
 ease bring toilet paper!\n\nQ: Is there cell service at the campsite?\n\nA
 : There is NO RECEPTION at this site\n\nFor more questions like this\, and
  actual answers too\, see the FAQ\n\n&nbsp\;\n\nSigning up:\n\nIn your com
 ment\, tell me your prior experience travelling on public transport for ma
 jority hours of the day\, and your desired Saturday Sport.\n\nCan’t wait
  to see you all there!!
ATTACH;FMTTYPE=image/jpeg:https://unswoc.org/wordpress/wp-content/uploads/
 2026/04/Untitled.jpg
CATEGORIES:Abseiling,Canyoning,Climbing,Hectic Hiking,Kayaking,Social
 Event
LOCATION:https://www.youtube.com/watch?v=dQw4w9WgXcQ
END:VEVENT
BEGIN:VTIMEZONE
TZID:Australia/Sydney
X-LIC-LOCATION:Australia/Sydney
BEGIN:DAYLIGHT
DTSTART:20251005T030000
TZOFFSETFROM:+1000
TZOFFSETTO:+1100
TZNAME:AEDT
END:DAYLIGHT
END:VTIMEZONE
END:VCALENDAR