BEGIN:VCALENDAR
VERSION:2.0
PRODID:-//wp-events-plugin.com//7.2.3.1//EN
TZID:Australia/Sydney
X-WR-TIMEZONE:Australia/Sydney
BEGIN:VEVENT
UID:2751@unswoc.org
DTSTART;TZID=Australia/Sydney:20201015T173000
DTEND;TZID=Australia/Sydney:20201015T190000
DTSTAMP:20201012T070800Z
URL:https://unswoc.org/wordpress/events/more-multi-pitching-skills-the-led
 ge/
SUMMARY:More Multi-Pitching Skills @ The Ledge
DESCRIPTION:Due to popular demand I will be running another workshop on mul
 ti-pitching this Thursday at the Ledge!\n\nThis workshop is most suited to
  intermediate climbers with reasonable outdoor experience who are keen to 
 take on bigger climbs.\n\nWhat we cover will be based on demand but likely
  skills include:\n\n 	Building anchors (for sport multi-pitches)\n 	Top be
 laying (and how to lower someone from top belay)\n 	Rope management\n 	Gen
 eral tips for multi-pitching\n\nPlease be at the Ledge ready to go at 5:30
 pm with any climbing gear you have\, and in the comment include:\n\n 	Your
  climbing experience\, outdoor and leading\n 	What gear you have\n 	What y
 ou're keen to learn\n\nFeel free to message me (Stephen) on facebook if yo
 u have any questions.\n\nNote: You must also be signed up for the regular 
 Ledge booking to attend this workshop.
ATTACH;FMTTYPE=image/jpeg:https://unswoc.org/wordpress/wp-content/uploads/
 2020/07/Patrick-1.jpeg
END:VEVENT
BEGIN:VTIMEZONE
TZID:Australia/Sydney
X-LIC-LOCATION:Australia/Sydney
BEGIN:DAYLIGHT
DTSTART:20201004T030000
TZOFFSETFROM:+1000
TZOFFSETTO:+1100
TZNAME:AEDT
END:DAYLIGHT
END:VTIMEZONE
END:VCALENDAR