BEGIN:VCALENDAR
VERSION:2.0
PRODID:-//wp-events-plugin.com//7.2.3.1//EN
TZID:Australia/Sydney
X-WR-TIMEZONE:Australia/Sydney
BEGIN:VEVENT
UID:2361@unswoc.org
DTSTART:20190304T073000Z
DTEND:20190304T103000Z
DTSTAMP:20190303T234054Z
URL:https://unswoc.org/wordpress/events/monday-bouldering-sydney-indoor-cl
 imbing-gym/
SUMMARY:Monday Bouldering @Sydney Indoor Climbing Gym
DESCRIPTION:On Monday's (and Fridays) student club members receive a discou
 nted rate of $11 at St Peters. There is usually a crew of UNSWOCer's there
  on Mondays evenings. Bouldering is beginner friendly and great way to imp
 rove your climbing!\n\nFor anyone rope climbing\, why not drop by for a qu
 ick warm-up or cool down at the end of the night :)\n\n
ATTACH;FMTTYPE=image/jpeg:https://unswoc.org/wordpress/wp-content/uploads/
 2019/03/DSC05155_sj.jpg
CATEGORIES:Bouldering
END:VEVENT
END:VCALENDAR