BEGIN:VCALENDAR
VERSION:2.0
PRODID:-//wp-events-plugin.com//7.2.3.1//EN
TZID:Australia/Sydney
X-WR-TIMEZONE:Australia/Sydney
BEGIN:VEVENT
UID:2366@unswoc.org
DTSTART:20190311T073000Z
DTEND:20190311T103000Z
DTSTAMP:20190308T230833Z
URL:https://unswoc.org/wordpress/events/monday-bouldering-sydney-indoor-cl
 imbing-gym-2/
SUMMARY:Monday Bouldering @Sydney Indoor Climbing Gym
DESCRIPTION:On Monday's (and Fridays) student club members receive a discou
 nted rate of $11 at St Peters. There is usually a crew of UNSWOCer's there
  on Mondays evenings\, pay at the counter and meet downstairs. Bouldering 
 is beginner friendly and great way to improve your climbing!\n\nFor anyone
  rope climbing\, why not drop by for a quick warm-up or cool down at the e
 nd of the night :)\n\n
ATTACH;FMTTYPE=image/jpeg:https://unswoc.org/wordpress/wp-content/uploads/
 2019/03/DSC05155_sj.jpg
CATEGORIES:Bouldering
END:VEVENT
END:VCALENDAR