BEGIN:VCALENDAR
VERSION:2.0
PRODID:-//wp-events-plugin.com//7.2.3.1//EN
TZID:Australia/Sydney
X-WR-TIMEZONE:Australia/Sydney
BEGIN:VEVENT
UID:2175@unswoc.org
DTSTART:20170917T130000Z
DTEND:20170919T110000Z
DTSTAMP:20170918T032020Z
URL:https://unswoc.org/wordpress/events/mission-orange-lake/
SUMMARY:Mission to the Orange Lake
DESCRIPTION:So we've planned a trip to the bottom (hopefully) of the B4-5 e
 xtension to see the orange lake. Ideally will start early Tuesday morning 
 and be out by night\, but may encounter bad air in the cave (around 2-3 we
 eks ago\, bad air was found around the start of the baby snake junction).
CATEGORIES:Caving
END:VEVENT
END:VCALENDAR