BEGIN:VCALENDAR
VERSION:2.0
PRODID:-//wp-events-plugin.com//7.2.3.1//EN
TZID:Australia/Sydney
X-WR-TIMEZONE:Australia/Sydney
BEGIN:VEVENT
UID:2028@unswoc.org
DTSTART:20160617T130000Z
DTEND:20160618T130000Z
DTSTAMP:20160604T035523Z
URL:https://unswoc.org/wordpress/events/midwinter-ledge-party-mirrorball/
SUMMARY:midwinter ledge party - mirrorball
DESCRIPTION:Invite only sorry due to limited space and experience required.
 \n\nTo continue in Rene's great tradition\, it's nearly time for another m
 idwinter ledge party! This year\, it's atop the Mirrorball Pinnacle and it
  would be great to have your company :)\n\nI'll be getting there from 3ish
  Saturday to set up anchors for everyone. The Mirrorball pinnacle couldn't
  be a better spot for five star views\, comfort\, luxury and easy access t
 o classics such as Bunny Bucket\, Hotel Cally\, Darkside\, Dirty Dancing\,
  the Mirrorball or I Have a Dream (25) (Go be the ole guidebook coverboy!)
  as well as heaps of cool single pitch routes all around https://www.thecr
 ag.com/climbing/australia/blue-mountains/bells-line-of-road-pierces-pass\n
 \nFeel free to organise your routes/a multipitch partner or crew here on t
 he event.\n\nAccess:\nEasy access from either the more westerly of the two
  abseils from lunch ledge (I'll leave a rope up) or by climbing the first 
 3 pitches of the West Face of The Mirrorball (19 on sport/carrots).\n\nGea
 r:\nYou need to be self sufficient\, I'm just the glue. Depending what you
  plan to do you'll probably need\n- Your normal multipitching gear (should
  include headtorch)\n- Food and water for your climb(s) sat/sun as well as
  your dinner sat night (we'll try share stoves b/w us all\, tbc)\n- Warm c
 lothes\, beanie\n- More importantly a warm sleeping bag/mat\n- 2 safety sl
 ings/biners per person\, no unsafety!\n- BYO tinnies\n\nWeather\n- Zero ra
 in would be great\, otherwise will postpone to the w/e after\n- It may ver
 y well be excitingly windy\n- It will probably be chilly\, it's a midwinte
 r ledge party\n\nPlease ask me if you'd like to invite someone else as obv
 iously there's limited space!\n\nCheers\,\nBrendan
END:VEVENT
END:VCALENDAR