BEGIN:VCALENDAR
VERSION:2.0
PRODID:-//wp-events-plugin.com//7.2.3.1//EN
TZID:Australia/Sydney
X-WR-TIMEZONE:Australia/Sydney
BEGIN:VEVENT
UID:1976@unswoc.org
DTSTART:20160319T130000Z
DTEND:20160319T190000Z
DTSTAMP:20160315T035629Z
URL:https://unswoc.org/wordpress/events/midnight-madness-boree-log-night/
SUMMARY:Midnight Madness!! - Boree Log @night
DESCRIPTION:P.S. This is an intermediate canyoning trip. You need to be sig
 ned up to Boree Log to attend.\n\nAre you ready for a night to never forge
 t (or remember)?! Cos when the clock hits 12 on Sunday morning\, we'll be
  taking the Boree Log party to Serendipity Canyon! Instead of phat beats a
 nd glow sticks\, we will hear invisible waterfalls and (hopefully) see glo
 w worms. If you haven't gone canyoning at night before\, it's a completely
  different experience to canyoning during the day.\n\n\n\nThe nitty gritty
 \n\nTo come on this trip you will need to:\n\n	have completed at least 3 c
 anyons (i.e. not a noob)\n	be self-sufficient at abseiling (comfortable cl
 ipping in and descending WITHOUT supervision or a belay)\n	bring all your 
 own personal canyoning equipment\n\n	long sleeve wetsuit (there are a few 
 swims) (wear thermals underneath if you get cold easily)\n	harness\, helme
 t\, descender\n	etc (you should know the drill)\n\n\n	bring a water-resist
 ant/waterproof HEAD TORCH or NIGHT VISION GOGGLES (it will get wet)\n	brin
 g a BENIGHTMENT KIT:\n\n	dry set of warm clothes/thermals (to get changed 
 into)\n	space blanket or sleeping bag (for sleeping in)\n	groundsheet\, ta
 rp\, tent\, or hammock (optional)\n\n\n	bring enough food/water/coffee to 
 last until morning\n	pass a fumble test (are you awake/sober enough to con
 nect &amp\; remove your descender from the rope without dropping it)\n\nTh
 is trip is currently capped at 6 people. Depending on the skills of people
  who sign up\, I might expand it to 8 people. I will organise all the grou
 p equipment.\n\nSince this trip involves abseiling at night\, everyone wil
 l get a TOP BELAY and/or a BOTTOM BELAY where appropriate.\n\nWe'll meet a
 t 11:30pm on Saturday night at the Boree Log Party. We will probably get t
 o the end of Serendipity Canyon anywhere between 4:00am and 6:00am (depend
 s how fast we move). I will be camping the night in the canyon since I am 
 doing Wollangambe 2 the next day (you're welcome to join the event). Other
 wise\, you will have to walk back up the hill to Cathedral of Ferns - it's
  a pretty straightforward walk\, and you can check out this map.\n\nIf you
  have any questions\, message me on facebook or send me an email :D
ATTACH;FMTTYPE=image/jpeg:https://unswoc.org/wordpress/wp-content/uploads/
 2016/03/ea2fc79dfbfc42cb03ce8bf257a6c97f.jpg
CATEGORIES:Canyoning
END:VEVENT
END:VCALENDAR