BEGIN:VCALENDAR
VERSION:2.0
PRODID:-//wp-events-plugin.com//7.2.3.1//EN
TZID:Australia/Sydney
X-WR-TIMEZONE:Australia/Sydney
BEGIN:VEVENT
UID:292@unswoc.org
DTSTART:20130927T130000Z
DTEND:20131005T130000Z
DTSTAMP:20130903T155459Z
URL:https://unswoc.org/wordpress/events/mid-semester-break/
SUMMARY:Mid Semester Break
DESCRIPTION:A great time to organise trips!
END:VEVENT
END:VCALENDAR