BEGIN:VCALENDAR
VERSION:2.0
PRODID:-//wp-events-plugin.com//7.2.3.1//EN
TZID:Australia/Sydney
X-WR-TIMEZONE:Australia/Sydney
BEGIN:VEVENT
UID:3474@unswoc.org
DTSTART;TZID=Australia/Sydney;VALUE=DATE:20240928
DTEND;TZID=Australia/Sydney;VALUE=DATE:20240929
DTSTAMP:20240925T044807Z
URL:https://unswoc.org/wordpress/events/mezzaluna-beginner-sport-climbing/
SUMMARY:FULL - Mezzaluna Beginner Sport Climbing
DESCRIPTION:Hey everyone!\n\nJemma and I (Amelia K) will be leading a begin
 ner friendly sport climbing trip to Mezzaluna Area at Mt York in the Blue 
 Mountains next Saturday. You can check out the crag page here to see if an
 ything catches your fancy. Whether you are looking to climb outdoors for t
 he first time or possibly want to learn to lead climb or belay this is the
  trip for you!\n\nIt will be an all day event\, we will arrange car poolin
 g to head up to the Blue Mountains early on Saturday morning and will retu
 rn to Sydney late\, so please let us know in the sign up comment whether y
 ou have a car and how many people you can take.\n\nWhat to bring:\n\n 	2L 
 water\n 	Food/snacks for the day\n 	Sunscreen/hat\n 	Warm clothes!\n 	Harn
 ess*\n 	Helmet*\n 	Belay device (eg ATC)*\n 	Locking carabiner*\n 	Climbin
 g shoes*\n 	Chalk (optional)\n 	Bag to fit everything listed above and som
 e of the shared gear we will bring\n\nItems marked * can be borrowed from 
 the UNSWOC gear cupboard for free (since this is a club trip)\, you just n
 eed to pay a security deposit. The cupboard opens Thursdays 5-6pm and is l
 ocated on campus here. You can make a booking for gear rental on the websi
 te under the 'Gear' tab.\n\nSo\, if you are keen to touch rocks\, please t
 ell us your climbing experience so far\, your favourite Arnotts biscuit (j
 ust so we know you've read all this information) and whether you have a ca
 r in your comment below... and get in early!\n\nIf you have any questions 
 feel free to send Jemma or I a message.\n\n&nbsp\;\n\nGet keen!\n\nAmelia
CATEGORIES:Outdoor Climbing
LOCATION:https://www.google.com/maps/place/Mezzaluna+Crag/@-33.5543749,150.
 2164284,458m/data=!3m1!1e3!4m6!3m5!1s0x6b1273c14b80772d:0xf7acf74c0aff3ec7
 !8m2!3d-33.5544207!4d150.2180272!16s%2Fg%2F11kpdcqw7d?entry=ttu&g_ep=EgoyM
 DI0MDkxNS4wIKXMDSoASAFQAw%3D%3D
END:VEVENT
BEGIN:VTIMEZONE
TZID:Australia/Sydney
X-LIC-LOCATION:Australia/Sydney
BEGIN:STANDARD
DTSTART:20240407T020000
TZOFFSETFROM:+1100
TZOFFSETTO:+1000
TZNAME:AEST
END:STANDARD
END:VTIMEZONE
END:VCALENDAR