BEGIN:VCALENDAR
VERSION:2.0
PRODID:-//wp-events-plugin.com//7.2.3.1//EN
TZID:Australia/Sydney
X-WR-TIMEZONE:Australia/Sydney
BEGIN:VEVENT
UID:3413@unswoc.org
DTSTART;TZID=Australia/Sydney:20240413T093000
DTEND;TZID=Australia/Sydney:20240413T170000
DTSTAMP:20240409T104249Z
URL:https://unswoc.org/wordpress/events/mezzaluna-beginner-intermediate-sp
 ort-climbing/
SUMMARY:Mezzaluna Beginner/ Intermediate Sport Climbing
DESCRIPTION:\n\n\n\nHey everyone!\n&nbsp\;\n\n\n\nPat and I (Jayden)\, alon
 g with Bennett\; our TLIT\, will be leading a beginner/ intermediate sport
  climbing trip to Mezzaluna area in the blue mountains this Saturday\, the
  13th of April!\nThis is a great opportunity to climb some spectacular exp
 osed routes (grades 15-20)\n\nWe'll aim to meet at 9:30am at Mount York ca
 mpground with car pooling organised with trip participants 😊\n\n\n\n\n
 \n\n\n\n\n\n\n\n\nYou will need:\n\n 	Climbing gear:\n\n 	A harness*\n 	he
 lmet*\,\n 	climbing shoes*\n 	belay device (usually ATC and locking carabi
 ner)*\n 	chalk bag\n\n\n 	For clothing: Sport clothes. It can get quite h
 ot or quite chilly\, so be prepared for both.\n 	For sustenance: 2L of wat
 er\, lunch and snacks\, chocolate for group\n 	Other gear: Sunscreen\, me
 dicines if you need them (asthma puffer\, etc).\n\n&nbsp\;\n\n* Gear can b
 e borrowed at the Gear Cupboard at UNSW on Thursday 5-6pm. Check Faceboo
 k for the latest details. You don’t need to pay a rental fee\, but brin
 g cash for a deposit\n\nLet us know in your comment what your experience o
 f climbing is like\, one thing you’d like to learn on Saturday and how m
 uch you love cheesecake on a scale from 7-12 🍰 \n\nIf you have any que
 stions\, message Patrick Chambers or Jayden Maisel on Facebook Messenger. 
 Be sure to have a clear way to contact you fb link or phone number on your
  account and check your message requests.\n\n\nBring all the stoke! We’r
 e keen to see you there!!\n\n\n\n\n
ATTACH;FMTTYPE=image/jpeg:https://unswoc.org/wordpress/wp-content/uploads/
 2024/04/5BF343B0-8C15-45A8-96D2-E6B9F50BC202-scaled.jpeg
CATEGORIES:Climbing,Outdoor Climbing
LOCATION:https://maps.app.goo.gl/56RLRnJSXWCHbvEW6
END:VEVENT
BEGIN:VTIMEZONE
TZID:Australia/Sydney
X-LIC-LOCATION:Australia/Sydney
BEGIN:STANDARD
DTSTART:20240407T020000
TZOFFSETFROM:+1100
TZOFFSETTO:+1000
TZNAME:AEST
END:STANDARD
END:VTIMEZONE
END:VCALENDAR