BEGIN:VCALENDAR
VERSION:2.0
PRODID:-//wp-events-plugin.com//7.2.3.1//EN
TZID:Australia/Sydney
X-WR-TIMEZONE:Australia/Sydney
BEGIN:VEVENT
UID:2419@unswoc.org
DTSTART:20190615T200000Z
DTEND:20190616T060000Z
DTSTAMP:20190614T123501Z
URL:https://unswoc.org/wordpress/events/megalazy-climbing-mezzaluna/
SUMMARY:Megalazy climbing at Mezzaluna
DESCRIPTION:Jeffrey and I will lead be leading a hectic climbing trip on Su
 nday to the Mezzaluna area of Mount York.\n\nThe climbs range from beginne
 r to intermediate\, to get full value it would be best if you've done some
  climbing before\, but don't worry we all start somewhere!\n\nForecast is 
 for cold weather\,  max 12ºC! That is without any windchill\, so warm c
 lothing is a must. Layers will be good so you can take something off while
  you climb.\nIf you're keen tell me your favourite item of warm clothing (
 that you will bring) and your outdoor experience in the comments.\n\nYou w
 ill need:\n\n 	*Helmet\n 	*Harness\n 	*Belay device + Locking Carabiner\n 
 	*Climbing Shoes\n 	Food + water (at least 1.5L!!)\n 	Backpack to carry th
 e above\n 	WARM CLOTHING\n 	petrol money for you driver\n 	good vibes\n\n*
 These items can be borrowed from the club on gear night.
ATTACH;FMTTYPE=image/jpeg:https://unswoc.org/wordpress/wp-content/uploads/
 2018/07/image3.jpg
CATEGORIES:Outdoor Climbing
END:VEVENT
END:VCALENDAR