BEGIN:VCALENDAR
VERSION:2.0
PRODID:-//wp-events-plugin.com//7.2.3.1//EN
TZID:Australia/Sydney
X-WR-TIMEZONE:Australia/Sydney
BEGIN:VEVENT
UID:2421@unswoc.org
DTSTART;VALUE=DATE:20190615
DTEND;VALUE=DATE:20190616
DTSTAMP:20190611T133308Z
URL:https://unswoc.org/wordpress/events/mega-classic-climbing-medlow/
SUMMARY:Mega classic climbing at Medlow
DESCRIPTION:Glenn and I (Jenny) will leading a climbing trip on Saturday th
 e 15th June to the Medlow Bath.\n\nIt's a beginner appropriate trip and ho
 pefully there'll be something for everyone! If you're keen to join\, be su
 re to add the follow to the comments and/or message me on fb:\n\n 	Whether
  you've climbed at all indoors and/or outdoors before\n 	Whether you have 
 a car and can offer lifts\n 	What your favourite native Australian animal 
 is\n\nForecast is for cold weather\,  max 12ºC! That is without any win
 dchill\, so warm clothing is a must. Layers will be good so you can take s
 omething off while you climb.\n\nYou will need:\n\n 	*Helmet\n 	*Harness\n
  	*Belay device + Locking Carabiner\n 	*Climbing Shoes\n 	Food + water (at
  least 1.5L!!)\n 	Backpack to carry the above\n 	WARM CLOTHING\n 	petrol m
 oney for you driver\n 	enthusiasm\n\n*These items can be borrowed from the
  club on gear night.\n\nThanks to Hayden/Jeffery for the trip template!\n\
 n
ATTACH;FMTTYPE=image/jpeg:https://unswoc.org/wordpress/wp-content/uploads/
 2018/07/IMG_20180715_150802074.png
CATEGORIES:Outdoor Climbing
END:VEVENT
END:VCALENDAR