BEGIN:VCALENDAR
VERSION:2.0
PRODID:-//wp-events-plugin.com//7.2.3.1//EN
TZID:Australia/Sydney
X-WR-TIMEZONE:Australia/Sydney
BEGIN:VEVENT
UID:2739@unswoc.org
DTSTART;TZID=Australia/Sydney;VALUE=DATE:20200919
DTEND;TZID=Australia/Sydney;VALUE=DATE:20200920
DTSTAMP:20200915T102435Z
URL:https://unswoc.org/wordpress/events/medlow-bath-climbing-%f0%9f%a4%99/
SUMMARY:Medlow Bath Beginner/Intermediate Climbing 🤙
DESCRIPTION:\n\nClimbing trip this Saturday to the Blue Mountains!! We'll b
 e going to the sunbath in medlow bath: https://www.thecrag.com/en/climbing
 /australia/blue-mountains/medlow-bath/area/13143367\nThe weather atm looks
  patchy so there's a chance it will be cancelled but will let you know wit
 h plenty of notice\n\n 	The plan: leaving Sydney early on Saturday and ba
 ck in the evening. Spend a great day climbing up some cool rocks. Please c
 omment how you plan to get to the crag. Due to COVID19 we do not recommend
  car pooling/catching public transport.\n 	The gear: you’ll need a HELM
 ET\, HARNESS\, and climbing SHOES. They can be borrowed from the gear cupb
 oard at UNSW (for free\, but bring a small $ deposit)\, please check the F
 acebook page to find out when the gear cupboard opens. If you have your ow
 n gear\, bring it of course!\n 	The rest: bring warm clothes\, enclosed c
 omfortable shoes for the hike in\, water (2L) and food for the day\, any p
 ersonal meds\, sunscreen\, a phone full of battery\, and a headtorch (we s
 ometimes finish in the dark so the walkout may be in the dark).\n\nDISCLAI
 MER: If you are sick\, have been in contact with a COVID case\, or have b
 een to Vitoria or overseas in the past 2 weeks\, you CANNOT attend this tr
 ip\, unfortunately. Hand sanitizer will be provided\, let’s keep safe &l
 t\;3 Furthermore\, please avoid any interactions with other people outside
  the Sydney area where possible (e.g. food shopping\, refill fuel in Sydne
 y).\n\nAny questions\, message me (Glenn Southern) or James Fisher on Face
 book. See ya there!\n\n&nbsp\;\n\n&nbsp\;
END:VEVENT
BEGIN:VTIMEZONE
TZID:Australia/Sydney
X-LIC-LOCATION:Australia/Sydney
BEGIN:STANDARD
DTSTART:20200405T020000
TZOFFSETFROM:+1100
TZOFFSETTO:+1000
TZNAME:AEST
END:STANDARD
END:VTIMEZONE
END:VCALENDAR