BEGIN:VCALENDAR
VERSION:2.0
PRODID:-//wp-events-plugin.com//7.2.3.1//EN
TZID:Australia/Sydney
X-WR-TIMEZONE:Australia/Sydney
BEGIN:VEVENT
UID:3713@unswoc.org
DTSTART;TZID=Australia/Sydney:20260128T080000
DTEND;TZID=Australia/Sydney:20260128T200000
DTSTAMP:20260119T001755Z
URL:https://unswoc.org/wordpress/events/medlow-all-abilities-sport-climbin
 g-day/
SUMMARY:Medlow All Abilities Sport Climbing Day
DESCRIPTION:EDIT: We post-poned to Wed 28th Jan due to ~220mm in 72hrs to a
 llow the rock to properly dry. Spots may reopen as people cancel. We may a
 lso need to adapt the crag to the weather conditions (&gt\;30deg) and crow
 d ability closer to the date.\n\n&nbsp\;\n\nHey gang!\n\nOscar and I (Rain
 e) are keen to take some people out to Sunbath - Medlow (with some potenti
 al wet weather backup options). There will also be plenty of easy top rope
 s and fun options\, but I'm also happy to put up/clean Incredible Hulk (23
 ) and even potentially Atoms in Action (25)\, which are both perfect bould
 er bro climbs depending on who comes. I want to encourage people who are r
 elatively self sufficient but enjoy the group atmosphere and someone happy
  to rescue their gear to tag along. No experience doing anything is requir
 ed\, just a basic level of physical fitness. If you have any questions\, j
 ust message Oscar or myself.\n\nDepending on wet weather there may be a lo
 ng (by climbing standards) hike to get in and out of the crag\, experience
  scrambling and physical fitness is a must have. It takes 40min to get in 
 and out of many of the dry crags\, with a fair bit of elevation.\n\nIf you
  come on this trip you are committing to trying every climb that is set up
  until you run out of energy!!! This is not a trip just for socialising\, 
 obviously there will be plenty of socialising\, but more than that people 
 will climb. This is meant to be a distraction from the fact I'm starting f
 ull time work soon\, any time off the wall is time being inadequately dist
 racted! To make sure you have read the description\, please let me know yo
 ur expected climbs per hour in the comment.\n\nIdeally I will also be able
  to climb stuff aside from setting up climbs so there will be less of an e
 mphasis on learning and more of an emphasis on losing skin and popping pul
 leys.\nWhat you Need (Gear Cupboard Closed\, So Please Let me Know):\n\n 	
 Harness *\n 	Helmet *\n 	Climbing Shoes *\n 	ATC *\n 	Locking Carabiner *\
 n 	Enclosed shoes for the approach\n 	A backpack for your stuff and whatev
 er gear we make you carry\n 	Lunch and snacks\n 	Minimum 2L water\n 	Any m
 edications you need\n 	Any extra gear you want\n\nItems with a * can be bo
 rrowed from the gear cupboard but it is not open\, so please put it in you
 r comment and we will borrow it on your behalf. If you don't include a com
 ment about what gear you own/need\, I will not accept you on the trip.\n\n
 We will organise carpooling and go over more details in a messenger group 
 chat\, so if you get accepted on the trip please check your message reques
 ts. If your Facebook profile is not already on your account please put it 
 in your comment.\n\nIn your comment please let us know what climbing exper
 ience you have\, what hiking/scrambling experience you have and anything e
 lse you feel is important.\n\nSignups open 11am Wednesday
CATEGORIES:Outdoor Climbing
LOCATION:https://www.google.com/maps/dir/?api=1&destination=-33.672555,150.
 273915
END:VEVENT
BEGIN:VTIMEZONE
TZID:Australia/Sydney
X-LIC-LOCATION:Australia/Sydney
BEGIN:DAYLIGHT
DTSTART:20251005T030000
TZOFFSETFROM:+1000
TZOFFSETTO:+1100
TZNAME:AEDT
END:DAYLIGHT
END:VTIMEZONE
END:VCALENDAR