BEGIN:VCALENDAR
VERSION:2.0
PRODID:-//wp-events-plugin.com//7.2.3.1//EN
TZID:Australia/Sydney
X-WR-TIMEZONE:Australia/Sydney
BEGIN:VEVENT
UID:1473@unswoc.org
DTSTART:20151024T000000Z
DTEND:20151024T080000Z
DTSTAMP:20151018T081512Z
URL:https://unswoc.org/wordpress/events/manly-palm-beach-daytrip-snorkel-s
 helly-beach/
SUMMARY:Manly to Palm Beach daytrip + snorkel at Shelly Beach
DESCRIPTION:Haven't been to the north side of Sydney much?\nWe'll meet at 
 Manly ferry dock at 11:00\, look around the photogenic north head reserve\
 , then snorkel at Shelly beach\, one of the best snorkel sites in Sydney r
 egion.\n\nAfter we get out of water\, we can head for central Manly to gra
 b some food then walk north to Dee Why via the Freshwater Boardwalk - a we
 ll built\, easy path by the sea. there isn't much from Dee Why to Mona Val
 e though so we'll cover that by bus.\n\nMore beaches and headlands after g
 etting off at Mona Vale\, it will take about 3-4 hours of coastal walk to 
 get to Palm beach\, depending on how fast we are going. Aiming to get to P
 alm Beach by 7 and have a picnic by the sunset\, then you can take L90 bus
  from Palm beach straight back to central.\n\nNotes:\nThis is a VERY safe 
 walk\, unless jumping off a cliff is your kind of fun :)\nFitness: absolut
 ely beginner friendly\, if you can walk on flat ground without panting\, y
 ou are in!\nBring sun protection\, you'll still turn red but won't become 
 a lobster!\nShoes: anything except barefoot\n\nbring snorkelling equipment
 s\, if you don't have a set don't stress too much\, we can always swap aro
 und so everyone has a go\n\nIf you are coming\, DO confirm with me whether
  it's running the night before @0431 895 316\, or find me on Facebook\n\n:
 )\n\nContact: Victor Grantham\n\n0431 895 316
LOCATION:Manly ferry terminal\, Manly wharf\, Manly\, NSW\, Australia
GEO:-33.800522;151.283859
X-APPLE-STRUCTURED-LOCATION;VALUE=URI;X-ADDRESS=Manly wharf\, Manly\, NSW\,
  Australia;X-APPLE-RADIUS=100;X-TITLE=Manly ferry terminal:geo:-33.800522,
 151.283859
END:VEVENT
END:VCALENDAR