BEGIN:VCALENDAR
VERSION:2.0
PRODID:-//wp-events-plugin.com//7.2.3.1//EN
TZID:Australia/Sydney
X-WR-TIMEZONE:Australia/Sydney
BEGIN:VEVENT
UID:2669@unswoc.org
DTSTART;TZID=Australia/Sydney:20200627T093000
DTEND;TZID=Australia/Sydney:20200627T140000
DTSTAMP:20200623T103206Z
URL:https://unswoc.org/wordpress/events/manly-dam-mountain-biking/
SUMMARY:Manly Dam Mountain Biking
DESCRIPTION:This Saturday the club will be going to Manly Dam for some Moun
 tain Biking! Preferably you would have taken your mountain bike for a spin
  already. This trip is more of a group ride to get out onto the trails and
  for UNSWOC Mountain Bikers to get together. We will be doing a loop of Ma
 nly Dam with some optional add-ons for some fun. Right now a lot of the tr
 ail system is closed\, however we are hoping for it to open before Saturda
 y. Fingers Crossed.\n\nAiming to be riding from 9:30am till around 2pm wit
 h snack breaks on the way.\n\nPlease bring:\n\n 	Water\n 	Snacks\n 	Mounta
 in Bike (Dualy or Hardtail)\n\n 	Please make sure your bike won't have any
  unexpected issues before the ride!\n\n\n 	Bike specific helmet\n 	Someth
 ing to carry your water and snacks with you while riding.\n\nPlease commen
 t your experience level and any questions you have about this trip! There 
 will be no car trips arranged for this trip due to ArcSport social distanc
 ing guidelines.\n\nMeeting location will be organised in a separate group 
 chat.\n\nThanks!
ATTACH;FMTTYPE=image/jpeg:https://unswoc.org/wordpress/wp-content/uploads/
 2020/06/p6pb14955730.jpg
END:VEVENT
BEGIN:VTIMEZONE
TZID:Australia/Sydney
X-LIC-LOCATION:Australia/Sydney
BEGIN:STANDARD
DTSTART:20200405T020000
TZOFFSETFROM:+1100
TZOFFSETTO:+1000
TZNAME:AEST
END:STANDARD
END:VTIMEZONE
END:VCALENDAR