BEGIN:VCALENDAR
VERSION:2.0
PRODID:-//wp-events-plugin.com//7.2.3.1//EN
TZID:Australia/Sydney
X-WR-TIMEZONE:Australia/Sydney
BEGIN:VEVENT
UID:1467@unswoc.org
DTSTART:20150923T060000Z
DTEND:20150923T110000Z
DTSTAMP:20150914T060815Z
URL:https://unswoc.org/wordpress/events/manky-cam/
SUMMARY:MANKY CAM!!
DESCRIPTION:The Manky Cam is an annual rock climbing battle between UNSWOC
 \, SURMC and UTSOAC (The three major university climbing clubs). UNSWOC ha
 s won the last two years in a row so lets not lose the title now!!\n\nTher
 e is no ability level required to attend the event\, HOWEVER if you have n
 ever climbed before please come at 4pm so you can be shown how to safely b
 elay. The competition is points based so every extra person we have is ea
 rning us points! SO PLEASE COME! THE MORE THE MERRIER! Plus there are som
 e pretty awesome prizes to grab!\n\nThe specific rules of the night will b
 e given on the night so make sure you're there on time! 5 PM! Plus there i
 s a bbq at the beginning of the night\, so all the more reason to be on ti
 me!\nThere is a small entry fee on top of the regular gym entry.\n\nHope 
 to see you all there!
CATEGORIES:Social Event
LOCATION:The Ledge\, A30 Western Ave\, Sydney\, NSW\, 2050\, Australia
GEO:-33.888718;151.185822
X-APPLE-STRUCTURED-LOCATION;VALUE=URI;X-ADDRESS=A30 Western Ave\, Sydney\, 
 NSW\, 2050\, Australia;X-APPLE-RADIUS=100;X-TITLE=The Ledge:geo:-33.888718
 ,151.185822
END:VEVENT
END:VCALENDAR