BEGIN:VCALENDAR
VERSION:2.0
PRODID:-//wp-events-plugin.com//7.2.3.1//EN
TZID:Australia/Sydney
X-WR-TIMEZONE:Australia/Sydney
BEGIN:VEVENT
UID:3352@unswoc.org
DTSTART;TZID=Australia/Sydney:20231025T180000
DTEND;TZID=Australia/Sydney:20231025T210000
DTSTAMP:20231018T111045Z
URL:https://unswoc.org/wordpress/events/manky-cam-wednesday-october-25/
SUMMARY:MANKY CAM - Wednesday October 25
DESCRIPTION:Manky Cam 2023\nOctober 25th\, 6pm\nThe Ledge\, USYD\n\n\nHey E
 veryone!\n\nManky Cam is this upcoming Wednesday! Our time has come once a
 gain to retain our prestigious winning title and represent the UNSW Outdoo
 rs Club at the biggest\, most insane\, inter-uni climbing competition of t
 he year!\n\nWe'd love to see as many of you there as possible. There will 
 be plenty of fun and whacky climbs to try\, games to take part in\, and pr
 izes to be won. Some of last year's climbs included: climbing blindfolded\
 , getting an exercise ball to the top of the wall with you\, climbing with
  a tennis ball under your chin\, or hanging upside-down and seeing how man
 y tennis balls you can land in a bucket.\n\nNo matter your climbing abilit
 y\, this event is for everyone. You'll also have the chance to meet some f
 ellow climbers from UTS and USYD. Each climb will be worth points and go t
 owards your individual score\, as well as the collective score for the clu
 b. So the more the merrier! And if you have one\, make sure to rep the clu
 b by wearing your UNSWOC shirt.\n\n&nbsp\;\nPlease sign up for this event 
 here on the website as this will help The Ledge cater for us in regards to
  food. Thank you!\n&nbsp\;\n\nIf you have dietary requirements\, please pu
 t them in the comment below.\n\nCan't wait to see you all there!!
CATEGORIES:Climbing,Social Event
LOCATION:https://maps.app.goo.gl/bwmf7BzweSnT3URf6
END:VEVENT
BEGIN:VTIMEZONE
TZID:Australia/Sydney
X-LIC-LOCATION:Australia/Sydney
BEGIN:DAYLIGHT
DTSTART:20231001T030000
TZOFFSETFROM:+1000
TZOFFSETTO:+1100
TZNAME:AEDT
END:DAYLIGHT
END:VTIMEZONE
END:VCALENDAR