BEGIN:VCALENDAR
VERSION:2.0
PRODID:-//wp-events-plugin.com//7.2.3.1//EN
TZID:Australia/Sydney
X-WR-TIMEZONE:Australia/Sydney
BEGIN:VEVENT
UID:2970@unswoc.org
DTSTART;TZID=Australia/Sydney:20221006T170000
DTEND;TZID=Australia/Sydney:20221006T214500
DTSTAMP:20221005T092046Z
URL:https://unswoc.org/wordpress/events/manky-cam-2/
SUMMARY:MANKY CAM
DESCRIPTION:IMPORTANT: Our usual social climbing night at the Ledge is bein
 g taken over by Manky Cam. You must have been approved to the Manky Event 
 in order to attend the Ledge on Thursday 6th September. All welcome to joi
 n the victory drinks at the Flodge afterwards \;) See below for details.\n
 *Event Full - please cancel your spot if you can no longer make it*\nHere 
 we have Manky Cam!!\n\nThe Manky Cam is an annual rock climbing battle bet
 ween UNSWOC\, SURMC and UTSOAC (The three major university climbing clubs)
 . It's a fun night full of different challenges - climbing blindfolded\, c
 limbing only using one hand\, etc. Each climb/challenge has a set number o
 f points allocated. The top 6 climbs for each club member are added up and
  the club with the largest total wins! There is no ability level required 
 to attend the event\, HOWEVER\, we do have to cap our numbers to 60\, whic
 h will be allocated on a first come first serve basis.\n\nIf you sign up a
 nd can no longer make the event\, make sure you cancel your booking so som
 eone else can take part.\n\nThe specific rules will be given at the start 
 of the night so make sure you're there on time! 5 PM!\n\nThere will also b
 e a BBQ courtesy of the LEDGE :)\n\nThe usual entry fee $5 will apply and 
 we will have some harnesses available to borrow. Any and all abilities are
  welcome!\n\nPlease wear a club shirt if you have one. If not any dark nav
 y coloured shirt so that we match would be good!\nAny questions or concern
 s\, shoot Jenny\, Angela\, Jayden\, Bennett or Mira a message on fb.\nSee 
 you there!!\n\n
ATTACH;FMTTYPE=image/jpeg:https://unswoc.org/wordpress/wp-content/uploads/
 2020/06/2938414B-BD27-4292-B440-27AC5EB30802.jpeg
CATEGORIES:Indoor Climbing,Social Event
END:VEVENT
BEGIN:VTIMEZONE
TZID:Australia/Sydney
X-LIC-LOCATION:Australia/Sydney
BEGIN:DAYLIGHT
DTSTART:20221002T030000
TZOFFSETFROM:+1000
TZOFFSETTO:+1100
TZNAME:AEDT
END:DAYLIGHT
END:VTIMEZONE
END:VCALENDAR