BEGIN:VCALENDAR
VERSION:2.0
PRODID:-//wp-events-plugin.com//7.2.3.1//EN
TZID:Australia/Sydney
X-WR-TIMEZONE:Australia/Sydney
BEGIN:VEVENT
UID:2255@unswoc.org
DTSTART;VALUE=DATE:20180519
DTEND;VALUE=DATE:20180520
DTSTAMP:20180518T091246Z
URL:https://unswoc.org/wordpress/events/malatia-wall-abseil/
SUMMARY:Malatia Wall Abseil
DESCRIPTION:Hey :) doing a multipitch abseil in Katoomba on Sat 19/05 (http
 ://ozultimate.com/canyoning/abseiling/notes/malaita_wall.htm)\n\nIt's quit
 e an exposed series of abseils\, but should be beginner friendly if you do
 n't mind challenging yourself :)\n\nThings to bring:\n\n 	really REALLY wa
 rm clothing (including beanie)\n 	windbreaker\n 	Helmet\n 	harness\n 	Safe
 ty sling\, 2 prussiks\, ATC\, locking biners X3 (can be collected from the
  gear cupboard in the morning)\n 	Closed shoes\n 	Backpack that can fit ev
 erything plus has space to carry rope\n\nPM me if you want to come (after 
 signing up on the website)
CATEGORIES:Abseiling
END:VEVENT
END:VCALENDAR