BEGIN:VCALENDAR
VERSION:2.0
PRODID:-//wp-events-plugin.com//7.2.3.1//EN
TZID:Australia/Sydney
X-WR-TIMEZONE:Australia/Sydney
BEGIN:VEVENT
UID:2326@unswoc.org
DTSTART;VALUE=DATE:20181110
DTEND;VALUE=DATE:20181114
DTSTAMP:20200126T222814Z
URL:https://unswoc.org/wordpress/events/main-range-circuit-from-guthega-to
 -mt-kosciuszko/
SUMMARY:Main Range Circuit from Guthega to Mt Kosciuszko
DESCRIPTION:\n 	Hiking Trip: Main Range Circuit from Guthega to Mt Koscius
 zko\n\nThis four day walk explores the Kosciuszko National Park\, covering
  many of the key features of the park between Guthega and Rawson Pass. Som
 e of the more popular sights you will visit are the Snowy River\, Blue Lak
 e and Lake Albina\, a couple of great alpine huts and the two highest peak
 s in Australia\, Mt Townsend and Mt Kosciuszko. The water supply from the 
 creek at the first nights campsite is unreliable\, so consider filling up 
 at the Snowy River on the way. This walk passes through very remote areas 
 and sections have no visible track.\n\nhttp://www.wildwalks.com/bushwalkin
 g-and-hiking-in-nsw/kosciuszko-np-south/main-range-circuit-from-guthega.ht
 ml\n\n&nbsp\;
CATEGORIES:Hectic Hiking
END:VEVENT
END:VCALENDAR