BEGIN:VCALENDAR
VERSION:2.0
PRODID:-//wp-events-plugin.com//7.2.3.1//EN
TZID:Australia/Sydney
X-WR-TIMEZONE:Australia/Sydney
BEGIN:VEVENT
UID:2180@unswoc.org
DTSTART;VALUE=DATE:20171015
DTEND;VALUE=DATE:20171016
DTSTAMP:20171014T050629Z
URL:https://unswoc.org/wordpress/events/macquarie-pass-weekend-worriers-mi
 ssion/
SUMMARY:Macquarie Pass Weekend Warriors Mission
DESCRIPTION:Hey fellow weekend warriors!\n\nCanyoning season has started an
 d Maria and I are running a trip through Macquarie Pass canyon on sunday 1
 5.10.\n\n\n\nThis is a very scenic canyon with waterfall abseils\, water j
 umps\, some short constrictions and scenic view. The water is warmer than 
 in the Blueies so hopefully not too cold as we will have quite a few swims
 . This will be a great day out so get in on it!\n\n(more info you can find
  here http://ozultimate.com/canyoning/track_notes/macquarie_pass.htm and p
 ics here http://ozultimate.com/canyoning/reports/2016/20161120_macquarie_p
 ass/photos.htm )\n\nThis trip involves quite a few abseils and we may do b
 oth sections of this canyon which would be a long day. This means you will
  definitely have to be fit and confident scrambling. Abseiling experience 
 is preferred\, however\, we might have a few beginner spots so please incl
 ude your experience when you sign up (fill out the comment box in addition
  to ticking the box please)!\n\nWhat you will need to bring:\n\n	harness*\
 n	helmet*\n	safety + biner*\n	atc + biner*\n	prussik*\n	backpack that can 
 get wet\n	drybag (this is important for spare clothes and your food! I str
 ongly recommend to buy\, e.g. at anaconda https://www.anacondastores.com/c
 amping-hiking/packs-bags/dry-bags-storage/sea-to-summit-dry-sack/p/BP90028
 599001\, these come in handy on almost any outdoor trip)\n	runners that ma
 y get trashed\n	wetsuit*\n	thermals if you get cold easily for under your 
 wetsuit\n	spare clothes to change into afterwards (incl. thongs or shoes)\
 n	lunch and snacks!\n	at least 1.5l of water\n	adventure spirit and heaps 
 of good mood!\n\n*can be hired from the gear cupboard for free (check the 
 fb page when it will be open)\n\nIMPORTANT:\n\nWe will need cars to get to
  the start of the canyon so please contact either Maria (Maria Lastra Cagi
 gas) or me (Steffi Quijote) if you have a car (also tick the box in the si
 gn up form). This is crucial for the trip to go ahead.\n\nYou have to be a
  member to attend this trip.\n\nThis is a whole day affair (leave Sydney 6
 -7am\, get back sometime in the evening).\n\nGet keen and see ya there!\n\
 nCheers\,\n\nSteffi and Maria\n\n&nbsp\;
END:VEVENT
END:VCALENDAR