BEGIN:VCALENDAR
VERSION:2.0
PRODID:-//wp-events-plugin.com//7.2.3.1//EN
TZID:Australia/Sydney
X-WR-TIMEZONE:Australia/Sydney
BEGIN:VEVENT
UID:469@unswoc.org
DTSTART:20140412T200000Z
DTEND:20140413T090000Z
DTSTAMP:20140411T230549Z
URL:https://unswoc.org/wordpress/events/macquarie-pass-canyon/
SUMMARY:Macquarie Pass Canyon
DESCRIPTION:We're planning to take a group of intermediates (and a few begi
 nners) through Macquarie Pass canyon\, near Wollongong\, on Sunday. The 
 canyon involves lots of abseils and some jumps. All participants should ha
 ve abseiled before and must organise their own gear and a lift.
CATEGORIES:Canyoning
END:VEVENT
END:VCALENDAR