BEGIN:VCALENDAR
VERSION:2.0
PRODID:-//wp-events-plugin.com//7.2.3.1//EN
TZID:Australia/Sydney
X-WR-TIMEZONE:Australia/Sydney
BEGIN:VEVENT
UID:1427@unswoc.org
DTSTART;VALUE=DATE:20150816
DTEND;VALUE=DATE:20150817
DTSTAMP:20150814T050601Z
URL:https://unswoc.org/wordpress/events/lost-world-hike/
SUMMARY:Lost World Hike
DESCRIPTION:Hello fellow outdoors people\,\n\nI will be leading a day hike 
 on Sunday (16th) in the Lower Blue Mountains. This trip is open to beginne
 rs as long as you have the required fitness and personal gear (see below).
  We will be taking the train to and from the hike.\n\nDetails!\n\nHike det
 ails: Starting at Faulconbridge train station and ending at Blaxland train
  station via Lost World Lookout. The hike includes some excellent lookouts
 \, camp caves\, ponds\, waterfalls\, and volcanic ridges. Approximately 15
  km long. I expect to take around 5-6 hours at a leisurely pace. Hike has 
 about 4 km of fairly steep uphill sections. There are a few creek crossing
 s so your feet/shoes may get wet.\n\nMeeting time/place: 7 am at Central s
 tation (Western Concourse - where the  buses park). Due to track works we
  will take a bus to Blacktown and then take the train the rest of the way.
  Bus leaves at 7:20 am. I will be waiting where the buses pickup (here) f
 rom 7 am.\n\nGear to bring:\n\nBackpack:        To carry all the stuff
  outlined below\nComfortable hiking shoes:        Nothing fancy. Just 
 something that can get wet/dirty\, won't give you blisters\, and wont fall
  apart\nHiking clothes:        Long pants and long sleeves are recomme
 nded to protect from the bush.\nAdditional clothes:        Spare warm 
 clothes so you don't get cold\nLunch and snakcs:        You know\, Foo
 d! (Chocolate\, nuts\, sandwiches\, fruit\, whatever you like...)\n1.5 L W
 ater:        For drinking\nHat/sunblock:        Australia gives yo
 u cancer\nHeadlamp/torch:        Shouldn't need it\, but carry one any
 way\nYour strong legs:        15 km hike with some steep bits. Are you
  fit enough?\n\nIf you have any questions or need some gear let me know vi
 a email or find me on facebook.\n\nCheers\,\n\nGarrett\n\n&nbsp\;\n\n&nbsp
 \;\n\n&nbsp\;\n\n&nbsp\;
CATEGORIES:Bushwalking
LOCATION:\, \, 
X-APPLE-STRUCTURED-LOCATION;VALUE=URI;X-ADDRESS=\, ;X-APPLE-RADIUS=100;X-TI
 TLE=:geo:0,0
END:VEVENT
END:VCALENDAR