BEGIN:VCALENDAR
VERSION:2.0
PRODID:-//wp-events-plugin.com//7.2.3.1//EN
TZID:Australia/Sydney
X-WR-TIMEZONE:Australia/Sydney
BEGIN:VEVENT
UID:2051@unswoc.org
DTSTART:20160819T130000Z
DTEND:20160819T130000Z
DTSTAMP:20160818T073656Z
URL:https://unswoc.org/wordpress/events/lost-world-day-hike/
SUMMARY:Lost World - Day Hike
DESCRIPTION:\n\nCome for a wander this weekend and join us as we seek out
  a Lost World!\n\nLose yourself strolling through fern filled forests and 
 along crystal clear creeks. Then find yourself again with views from the s
 pectacular sandstone cliffs of the Lost World...\n\nYep I'm going to stop 
 pretending I can write nice\, poetic descriptions of nature and just give 
 you the details. I am\, after all\, an engineering student. So here's the 
 plan:\n\nWe will meet early Saturday morning at 8:00am on Platform 7 at Ce
 ntral Station. From there we will take the 8:18 train up to Faulconbridge 
 where we will start the walk.\n\nAs I said above in my beautiful verse we 
 will be walking a lot of the day in forest and along a creek. There will b
 e plenty of opportunities to swim if it's a nice day so bring swimmers if 
 you aren't afraid of a bit of cold water!\n\nThings to Bring:\n\n	Good sho
 es for walking (i.e. NOT thongs)\n	Sunscreen and Hat\n	A Daypack\n	Lunch a
 nd snacks\n	Water (about 2-3L\, depending on the weather forecast)\n	Swimm
 ers and a towel (optional)\n	Headtorch (optional\, if you already have one
  throw it in just in case! We certainly don't plan to be walking at night!
 )\n	Your biggest smile and a can-do attitude!\n\nIf you have any questions
  feel free to contact myself (Andrew Barnett) or Hanna (Hanna Jayne) on Fa
 cebook\, or you can also contact me on 0439735393 or at andrew.barnett.au@
 gmail.com\n\n&nbsp\;\n\n&nbsp\;
ATTACH;FMTTYPE=image/jpeg:https://unswoc.org/wordpress/wp-content/uploads/
 2016/08/FaulG-13.jpg
CATEGORIES:Bushwalking
END:VEVENT
END:VCALENDAR