BEGIN:VCALENDAR
VERSION:2.0
PRODID:-//wp-events-plugin.com//7.2.3.1//EN
TZID:Australia/Sydney
X-WR-TIMEZONE:Australia/Sydney
BEGIN:VEVENT
UID:2060@unswoc.org
DTSTART:20160917T200000Z
DTEND:20160918T080000Z
DTSTAMP:20160913T000602Z
URL:https://unswoc.org/wordpress/events/long-daywalk/
SUMMARY:Long Daywalk
DESCRIPTION:Hey gang.\n\nI am planning to do the Coast Track as a long day 
 walk on Sunday. All are welcome\, but you should have a good level of fitn
 ess. The walk is 26km\, and I would like to do it in about 6-7hours.\n\nWe
  will catch the 7:20 train from Central to Cronulla\, then catch the first
  ferry across to Bundena. You will need to bring cash for the ferry ($3.20
  for students\, $6.40 for adults)\, as they don't accept credit card or Op
 al card.\n\nYou will need to bring the usual day walking stuff:\n\n	Food.\
 n	Water (minimum 2l).\n	Sturdy shoes.\n	A backpack.\n	Sun protection.\n	Co
 ld/Wet weather jacket.\n\n
ATTACH;FMTTYPE=image/jpeg:https://unswoc.org/wordpress/wp-content/uploads/
 2016/08/1420455994_Wedding-Cake-Rock-Bundeena-New-South-wales-2142466-tdn-
 low-resolution.jpg
END:VEVENT
END:VCALENDAR