BEGIN:VCALENDAR
VERSION:2.0
PRODID:-//wp-events-plugin.com//7.2.3.1//EN
TZID:Australia/Sydney
X-WR-TIMEZONE:Australia/Sydney
BEGIN:VEVENT
UID:3209@unswoc.org
DTSTART;TZID=Australia/Sydney;VALUE=DATE:20230226
DTEND;TZID=Australia/Sydney;VALUE=DATE:20230227
DTSTAMP:20230224T075842Z
URL:https://unswoc.org/wordpress/events/lockleys-pylon-day-hike/
SUMMARY:Lockleys Pylon Day Hike
DESCRIPTION:Attention all hikers! This Sunday\, Jayden\, Krishna and I (Pet
 a) will be doing Lockleys Pylon walking Track in the Blue Mountains Nation
 al Park.\n\nThis is a fairly easy track and includes some beautiful views 
 of the Grose Valley. No hiking experience is required\, just a moderate le
 vel of fitness and a whole lot of stoke. It should take us around 3 hours\
 , not including our lunch break.\n\nHere are the track notes:\n\nhttps://w
 ww.wildwalks.com/bushwalking-and-hiking-in-nsw/blue-mountains-leura/lockle
 ys-pylon.html\n\nWhat to pack:\n\n 	Decent walking shoes\, hiking boots ar
 e ideal\n 	Sunscreen/Hat/Sunnies\n 	A warm jumper\n 	At least 2L of water\
 n 	Lunch and snacks\n\nWe will be meeting at Lockley’s Pylon Parking are
 a at 11am. Please let us know below whether you have a car and where you
 ’ll be leaving from as we will be carpooling up.  Also let us know your
  hiking experience.
CATEGORIES:Bushwalking,Hectic Hiking
END:VEVENT
BEGIN:VTIMEZONE
TZID:Australia/Sydney
X-LIC-LOCATION:Australia/Sydney
BEGIN:DAYLIGHT
DTSTART:20221002T030000
TZOFFSETFROM:+1000
TZOFFSETTO:+1100
TZNAME:AEDT
END:DAYLIGHT
END:VTIMEZONE
END:VCALENDAR