BEGIN:VCALENDAR
VERSION:2.0
PRODID:-//wp-events-plugin.com//7.2.3.1//EN
TZID:Australia/Sydney
X-WR-TIMEZONE:Australia/Sydney
BEGIN:VEVENT
UID:3531@unswoc.org
DTSTART;TZID=Australia/Sydney:20250316T103000
DTEND;TZID=Australia/Sydney:20250316T140000
DTSTAMP:20250310T065707Z
URL:https://unswoc.org/wordpress/events/lockleys-pylon-day-hike-2/
SUMMARY:Lockleys Pylon Day Hike
DESCRIPTION:UPDATE (2025-03-06): Rescheduled to Sunday fortnight (2025-03-1
 6) due to severe rain forecast.\n\nHi folks!\n\nLeo\, I (Grant) and Hugh a
 re heading up to the Blue Mountains to do the Lockleys Pylon Track. It’s
  a short hike through sandstone heathland with gorgeous sweeping views ove
 r the Grose Valley.\n\nWe’ll be meeting at the Lockleys Pylon Trailhead 
 at 10:30am\; the hike is 7km return and should take around ~2-3hrs all up.
  In terms of difficulty it's moderate with a few short steep hills but oth
 erwise flat (compared to other hikes around the Blueys that is).\n\nDay-hi
 ke packing list:\n\n 	Sturdy enclosed/hiking shoes\n 	Sun protection (hat\
 , sunscreen etc.)\n 	2L+ water\n 	Food/snacks\n 	Possibly a jacket - can g
 et a bit windy\n\nDefinitely let us know if you’ve got a car below and a
 lso what your favourite plant\, animal\, tree or insect to double check yo
 u've read everything! As an aside\, autumn’s not the best season for wil
 dflowers\, but Hugh and I are such plant nerds we’re bound to find somet
 hing curious to point out.\n\nSome useful links:\n\nhttps://wildwalks.com/
 wildwalks_custom/walk_pdfs/saved/Lockley%20Pylon%20(nsw-bmnp-lp).pdf\n\nht
 tps://www.nationalparks.nsw.gov.au/things-to-do/walking-tracks/lockley-pyl
 on-walking-track\n\nFeel free to drop any of us a message on Facebook if y
 ou’ve got any questions 😊
CATEGORIES:Bushwalking,Hectic Hiking
LOCATION:https://maps.app.goo.gl/ThoMGqq839Nrefb18
END:VEVENT
BEGIN:VTIMEZONE
TZID:Australia/Sydney
X-LIC-LOCATION:Australia/Sydney
BEGIN:DAYLIGHT
DTSTART:20241006T030000
TZOFFSETFROM:+1000
TZOFFSETTO:+1100
TZNAME:AEDT
END:DAYLIGHT
END:VTIMEZONE
END:VCALENDAR