BEGIN:VCALENDAR
VERSION:2.0
PRODID:-//wp-events-plugin.com//7.2.3.1//EN
TZID:Australia/Sydney
X-WR-TIMEZONE:Australia/Sydney
BEGIN:VEVENT
UID:305@unswoc.org
DTSTART:20130922T003000Z
DTEND:20130922T053000Z
DTSTAMP:20130919T205628Z
URL:https://unswoc.org/wordpress/events/linfield-boulder-bonanza/
SUMMARY:Linfield Boulder Bonanza!
DESCRIPTION:&nbsp\;\n\n&nbsp\;\n\n&nbsp\;\n\n&nbsp\;\n\nBouldering at the L
 infield Rocks! This has some classic routes with something for everyone\, 
 no matter your skill levels or bouldering POWA!\n\n&nbsp\;\n\nLook at the
  tasties precioussssss...... Linfield Rocks\n\n&nbsp\;\n\nBring some lunch
 \, your climbing shoes and some skin!
CATEGORIES:Outdoor Climbing
LOCATION:\, \, 
X-APPLE-STRUCTURED-LOCATION;VALUE=URI;X-ADDRESS=\, ;X-APPLE-RADIUS=100;X-TI
 TLE=:geo:0,0
END:VEVENT
END:VCALENDAR