BEGIN:VCALENDAR
VERSION:2.0
PRODID:-//wp-events-plugin.com//7.2.3.1//EN
TZID:Australia/Sydney
X-WR-TIMEZONE:Australia/Sydney
BEGIN:VEVENT
UID:2071@unswoc.org
DTSTART:20161015T003000Z
DTEND:20161015T060000Z
DTSTAMP:20161011T072454Z
URL:https://unswoc.org/wordpress/events/lindfield-bouldering-beginner-frie
 ndly/
SUMMARY:Lindfield Bouldering - Beginner Friendly
DESCRIPTION:Hey everyone\,\n\nI'll be running a bouldering trip to Lindfiel
 d Rocks this Saturday. The classic crag for climbers of all levels. Sign u
 p below.\nCrag Link: https://www.thecrag.com/climbing/australia/north-shor
 e/area/12011227\n\nYou will need:\n\n	food\n	water\n	climbing shoes (can b
 e borrowed from cupboard)\n	chalk\n	sun protection\n	bouldering mat if you
  have it\n\nMeeting at Lindfield rocks at 8:30am! We will hopefully car po
 ol (let me know if you have a car) otherwise there's the train to lindfiel
 d and the walk.\n\nCheers\nBrendan
END:VEVENT
END:VCALENDAR