BEGIN:VCALENDAR
VERSION:2.0
PRODID:-//wp-events-plugin.com//7.2.3.1//EN
TZID:Australia/Sydney
X-WR-TIMEZONE:Australia/Sydney
BEGIN:VEVENT
UID:2860@unswoc.org
DTSTART;TZID=Australia/Sydney;VALUE=DATE:20210221
DTEND;TZID=Australia/Sydney;VALUE=DATE:20210222
DTSTAMP:20210217T050609Z
URL:https://unswoc.org/wordpress/events/liloing-down-the-kangaroo-river-bo
 ree-log-sunday/
SUMMARY:BL Sunday - Liloing Down the Kangaroo River - Boree Log Sunday
DESCRIPTION:Need a chill day on Sunday after a hard day's night?\n\nIs your
  idea of exercise floating down a river?\n\nJust signed up to the club for
  sweet Instagram photos?\n\nIf you answered yes to any of these questions 
 then have I got the trip for you.\n\nMe (Nadav)\, Scott and Ben's plan is 
 to drive up the the Hampden Bridge in Town and float/walk/swim down the Ka
 ngaroo River it on lilos back to the campsite. This does still require som
 e fitness to walk in and out to the river and to swim in the river. But in
  the grand scheme of club trips it's a chill (but longish day)\n\n********
     YOU ABSOLUTELY MUST BE ABLE TO SWIM  ***********\n\nSome of the gea
 r is pretty mandatory so pay attention:\n\n 	Wetsuit*\n 	Lunch + snack(s)\
 n 	1-2L of water (complete with bottle)\n 	Dry bag to hold stuff that need
 s to stay dry\, like camera\, lunch and change of clothes (these can be bo
 ught for like $10 from K-mart). You'll want one with 10-20L capacity\n 	Un
 dies to wear under wetsuit\n 	Change of socks (ideally one pair woollen)\n
  	Board shorts or other shorts to protect the butt of the wetsuit\n 	Shoes
  to get wet\n 	Small backpack to hold everything (it will get wet)\n 	Wate
 rproof camera (if ya have one)\n\nPS. You must be approved for Boree Log t
 o attend this trip!\n\nMeeting point is Sunday morning at the campsite. Co
 me say hi to me on Saturday night if you're approved for this trip!
END:VEVENT
BEGIN:VTIMEZONE
TZID:Australia/Sydney
X-LIC-LOCATION:Australia/Sydney
BEGIN:DAYLIGHT
DTSTART:20201004T030000
TZOFFSETFROM:+1000
TZOFFSETTO:+1100
TZNAME:AEDT
END:DAYLIGHT
END:VTIMEZONE
END:VCALENDAR