BEGIN:VCALENDAR
VERSION:2.0
PRODID:-//wp-events-plugin.com//7.2.3.1//EN
TZID:Australia/Sydney
X-WR-TIMEZONE:Australia/Sydney
BEGIN:VEVENT
UID:2350@unswoc.org
DTSTART:20181209T070000Z
DTEND:20181209T090000Z
DTSTAMP:20181206T092510Z
URL:https://unswoc.org/wordpress/events/lightening-load/
SUMMARY:Lightening the Load
DESCRIPTION:Pack shakedowns and an intro to cold soaking!\n\n\nIs your pack
  always ten times larger than everyone else's? Do you want to make those p
 esky uphills easier? Does organizing food for a trip always seem ultra dau
 nting? Well if that's you\, I'm going to give you a hand lightening the lo
 ad without investing heaps of money in expensive ultralight gear\, or spen
 ding time dehydrating food!\nThe plan is to meet in the UNSW library room 
 406 on Sunday at 6pm. Feel free to bring your usual pack and gear or simpl
 y a gear list of what you usually take. I'll give everyone who does this a
  brief shakedown to lighten your load.\n\nI'll also be going through what 
 cold soaking is\, what you can and can't soak\, how long to soak things fo
 r and what you can use for cold soaking. If you don't know what I am talki
 ng about right now\, just get ready for a world where you are never out of
  gas\, never have to sit and cook your meal when you are tired at the end 
 of a long day\, and a world where you don't have to do dishes!\n\nFinally 
 I'll hand out a bunch recipies of easy cheap meals you can throw together 
 in a pinch if you feel like indulging in some hot food.\n\nI don't expect 
 it should take longer than an hour\, but if we have more than a handful of
  people show up\, it might take up to 2 hours.\n\nHope to see you there!
ATTACH;FMTTYPE=image/jpeg:https://unswoc.org/wordpress/wp-content/uploads/
 2018/12/IMG_20180420_141624.jpg
CATEGORIES:Training
END:VEVENT
END:VCALENDAR