BEGIN:VCALENDAR
VERSION:2.0
PRODID:-//wp-events-plugin.com//7.2.3.1//EN
TZID:Australia/Sydney
X-WR-TIMEZONE:Australia/Sydney
BEGIN:VEVENT
UID:2422@unswoc.org
DTSTART:20190621T070000Z
DTEND:20190621T090000Z
DTSTAMP:20200126T222814Z
URL:https://unswoc.org/wordpress/events/lightening-load-2/
SUMMARY:Lightening the Load
DESCRIPTION:Pack shakedowns and an intro to cold soaking!\n\n\n\nIs your pa
 ck always ten times larger than everyone else’s? Do you want to make tho
 se pesky uphills easier? Does organizing food for a trip always seem ultra
  daunting? Well if that’s you\, I’m going to give you a hand lightenin
 g the load without investing heaps of money in expensive ultralight gear\,
  or spending time dehydrating food!\n\nThe plan is to meet at the gear cup
 board at 6pm. Feel free to bring your usual pack and gear or simply a gear
  list of what you usually take. I’ll give everyone who does this a brief
  shakedown to lighten your load.\n\nI’ll also be going through what cold
  soaking is\, what you can and can’t soak\, how long to soak things for 
 and what you can use for cold soaking. If you don’t know what I am talki
 ng about right now\, just get ready for a world where you are never out of
  gas\, never have to sit and cook your meal when you are tired at the end 
 of a long day\, and a world where you don’t have to do dishes!\n\nFinall
 y\, I’ll hand out a bunch recipes of easy cheap meals you can throw toge
 ther in a pinch if you feel like indulging in some hot food.\n\nI will run
  it based on your questions\, I don’t expect it should take longer than 
 an hour\, but if we have more than a handful of people show up\, it might 
 take up to 2 hours.\n\nHope to see you there!
ATTACH;FMTTYPE=image/jpeg:https://unswoc.org/wordpress/wp-content/uploads/
 2018/12/IMG_20180420_141624.jpg
CATEGORIES:Bushwalking,Hectic Hiking,Training
END:VEVENT
END:VCALENDAR