BEGIN:VCALENDAR
VERSION:2.0
PRODID:-//wp-events-plugin.com//7.2.3.1//EN
TZID:Australia/Sydney
X-WR-TIMEZONE:Australia/Sydney
BEGIN:VEVENT
UID:3593@unswoc.org
DTSTART;TZID=Australia/Sydney;VALUE=DATE:20250614
DTEND;TZID=Australia/Sydney;VALUE=DATE:20250615
DTSTAMP:20250610T234105Z
URL:https://unswoc.org/wordpress/events/level-2-canyon-workshop/
SUMMARY:Level 2 Canyon Workshop
DESCRIPTION:Level 2 canyon leader workshop\nHeld in the Blue Mountains (exa
 ct location TBD) we will be covering the skills required to be a level 2 c
 anyon trip leader.\n\nThis is intended for people who are confident in all
  level 1 trip leader skills.\n\nIf you wish to join please message Jason B
 rand on Facebook messenger\n\nhttps://www.facebook.com/share/1CDkQ4i3d8/
ATTACH;FMTTYPE=image/jpeg:https://unswoc.org/wordpress/wp-content/uploads/
 2025/02/image.gif
CATEGORIES:Abseiling,Canyoning,Training
LOCATION:https://maps.app.goo.gl/SmkQvvwyo2x9x4bj8
END:VEVENT
BEGIN:VTIMEZONE
TZID:Australia/Sydney
X-LIC-LOCATION:Australia/Sydney
BEGIN:STANDARD
DTSTART:20250406T020000
TZOFFSETFROM:+1100
TZOFFSETTO:+1000
TZNAME:AEST
END:STANDARD
END:VTIMEZONE
END:VCALENDAR