BEGIN:VCALENDAR
VERSION:2.0
PRODID:-//wp-events-plugin.com//7.2.3.1//EN
TZID:Australia/Sydney
X-WR-TIMEZONE:Australia/Sydney
BEGIN:VEVENT
UID:3604@unswoc.org
DTSTART;TZID=Australia/Sydney;VALUE=DATE:20250706
DTEND;TZID=Australia/Sydney;VALUE=DATE:20250707
DTSTAMP:20250705T084229Z
URL:https://unswoc.org/wordpress/events/level-2-canyon-training-day-juggle
 rs-canyon/
SUMMARY:Level 2 Canyon Training Day - Jugglers Canyon
DESCRIPTION:Jugglers Canyon\n\n&nbsp\;\n\nTraining trip for level 2 trip le
 aders
LOCATION:https://maps.app.goo.gl/deVJaci35bee3Sm46
END:VEVENT
BEGIN:VTIMEZONE
TZID:Australia/Sydney
X-LIC-LOCATION:Australia/Sydney
BEGIN:STANDARD
DTSTART:20250406T020000
TZOFFSETFROM:+1100
TZOFFSETTO:+1000
TZNAME:AEST
END:STANDARD
END:VTIMEZONE
END:VCALENDAR