BEGIN:VCALENDAR
VERSION:2.0
PRODID:-//wp-events-plugin.com//7.2.3.1//EN
TZID:Australia/Sydney
X-WR-TIMEZONE:Australia/Sydney
BEGIN:VEVENT
UID:3590@unswoc.org
DTSTART;TZID=Australia/Sydney;VALUE=DATE:20250705
DTEND;TZID=Australia/Sydney;VALUE=DATE:20250707
DTSTAMP:20250601T082916Z
URL:https://unswoc.org/wordpress/events/level-2-canyon-leader-training-wee
 kend/
SUMMARY:Level 2 Canyon Leader Training Weekend
DESCRIPTION:Hi\,\n\nWe will be running a training weekend to upskill and si
 gnoff our canyon leaders from level 1 to level 2.\n\nIf you are currently 
 a level 1 leader\, and believe you are ready to progress to running trips 
 yourself please come along!\n\nThis weekend is meant for those who current
 ly have the level 2 trip leader skills\, or are only missing some skills. 
 If you have any questions about your suitability as a level 2 leader you c
 an flick me a message.\n\nThe current plan is to do a cliff day on Saturda
 y\, and a dry canyon on Sunday. This is weather dependant and flexible. We
  will most likely camp at Cathedral Reserve at Mt Wilson\n\nRequired Gear:
 \n\n- Your canyoning gear including gear for rescue (you should know what 
 you need...)\n\n- Camping gear (again\, you should know...)\n\nPlease let 
 us know if you have a car and where you are leaving from\, this will help 
 with carpooling\, and let us know what skills from the L2 syllabus you are
  missing/want to touch up on.\n\nCan't wait to see you there 😊
ATTACH;FMTTYPE=image/jpeg:https://unswoc.org/wordpress/wp-content/uploads/
 2025/06/received_2369015490136659-scaled.jpeg
CATEGORIES:Canyoning,Training
LOCATION:https://maps.app.goo.gl/HSW4VAhpJTq5YqfUA
END:VEVENT
BEGIN:VTIMEZONE
TZID:Australia/Sydney
X-LIC-LOCATION:Australia/Sydney
BEGIN:STANDARD
DTSTART:20250406T020000
TZOFFSETFROM:+1100
TZOFFSETTO:+1000
TZNAME:AEST
END:STANDARD
END:VTIMEZONE
END:VCALENDAR