BEGIN:VCALENDAR
VERSION:2.0
PRODID:-//wp-events-plugin.com//7.2.3.1//EN
TZID:Australia/Sydney
X-WR-TIMEZONE:Australia/Sydney
BEGIN:VEVENT
UID:303@unswoc.org
DTSTART:20131001T083000Z
DTEND:20131001T120000Z
DTSTAMP:20130916T185247Z
URL:https://unswoc.org/wordpress/events/legendary-climber-mike-laws-slide-
 show-book-launch/
SUMMARY:Legendary climber Mike Law's slide show and book launch
DESCRIPTION:From the Sydney Rockclimbing Club (SRC):\n\n"The Committee is e
 xcited to announce that the SRC will host the launch of Mike Law's memoir 
 'Law Unto Himself'\, published by Glenn Tempest's Open Spaces Publishing.\
 n\nMike has been well known (and infamous) in Australian climbing circles 
 for four decades and his book covers many of the stories\, lies\, legends 
 and characters of that time.\n\nThe event will replace the regular October
  meeting and will take place on TUESDAY (not Wednesday) 1 October at Wests
  Leagues. The venue will be the main lounge on the first floor and open to
  both SRC members and others.\n\nMike will give a slide presentation and t
 alk followed by a book signing for copies purchased on the night. RRP is $
 27.95\, however with the support of Open Spaces we can offer it to members
  for $18.00 (you'll need to show your membership card)."\n\nFor anyone int
 erested in Australian climbing history culture this promises to be an unmi
 ssable evening.
CATEGORIES:Social Event
LOCATION:Wests Ashfield Leagues Club\, \, 
GEO:0.000000;0.000000
X-APPLE-STRUCTURED-LOCATION;VALUE=URI;X-ADDRESS=\, ;X-APPLE-RADIUS=100;X-TI
 TLE=Wests Ashfield Leagues Club:geo:0.000000,0.000000
END:VEVENT
END:VCALENDAR