BEGIN:VCALENDAR
VERSION:2.0
PRODID:-//wp-events-plugin.com//7.2.3.1//EN
TZID:Australia/Sydney
X-WR-TIMEZONE:Australia/Sydney
BEGIN:VEVENT
UID:2576@unswoc.org
DTSTART;TZID=Australia/Sydney:20191107T183000
DTEND;TZID=Australia/Sydney:20191107T200000
DTSTAMP:20191105T080613Z
URL:https://unswoc.org/wordpress/events/ledge-training-lowering-systems/
SUMMARY:Ledge Training – Lowering Systems
DESCRIPTION:This week at the Ledge we will be working on lowering systems! 
 You may have seen trip leaders setting up fancy knots at abseil anchors or
  wondered how to lower someone on a multi-pitch climb. We will go through 
 how to set up a munter mule contingency anchor that allows you to lower an
  abseiler from the top if they get stuck halfway down\, and how to lower s
 omeone when belaying from above with a top-belay. If we have time hopefull
 y we can also discuss alternative releasable abseiling setups\, and the be
 nefits and disadvantages of each.\n\nIf you have any questions\, send me a
  message (I’m Stephen btw)\n\nWhat you need:\n\nI'll bring any gear we'l
 l need from the gear cupboard\, just bring a harness or borrow one from th
 e UNSWOC box at the ledge. If you have any preferred abseiling/belaying de
 vice you like using bring those too.\n\n
ATTACH;FMTTYPE=image/jpeg:https://unswoc.org/wordpress/wp-content/uploads/
 2019/11/munter-hitch-15.png
CATEGORIES:Training
END:VEVENT
BEGIN:VTIMEZONE
TZID:Australia/Sydney
X-LIC-LOCATION:Australia/Sydney
BEGIN:DAYLIGHT
DTSTART:20191006T030000
TZOFFSETFROM:+1000
TZOFFSETTO:+1100
TZNAME:AEDT
END:DAYLIGHT
END:VTIMEZONE
END:VCALENDAR