BEGIN:VCALENDAR
VERSION:2.0
PRODID:-//wp-events-plugin.com//7.2.3.1//EN
TZID:Australia/Sydney
X-WR-TIMEZONE:Australia/Sydney
BEGIN:VEVENT
UID:2427@unswoc.org
DTSTART;TZID=Australia/Sydney:20190627T183000
DTEND;TZID=Australia/Sydney:20190627T203000
DTSTAMP:20190627T224530Z
URL:https://unswoc.org/wordpress/events/ledge-training-knots/
SUMMARY:Ledge Training - Knots
DESCRIPTION:This week at the ledge we're working on knots! The class will b
 e run based on the participants (beginner or intermediate) and include kno
 t theory\, tying\, use cases\, safety and general gear interactions.\nNo e
 xperience necessary for the beginner one but for intermediate you should k
 now how to tie figure 8s\, autoblocks and prussiks. Just comment or messag
 e me with which one you'd like and I'll choose people based on that\n\nThe
  ultimate stopper knot?
CATEGORIES:Training
END:VEVENT
BEGIN:VTIMEZONE
TZID:Australia/Sydney
X-LIC-LOCATION:Australia/Sydney
BEGIN:STANDARD
DTSTART:20190407T020000
TZOFFSETFROM:+1100
TZOFFSETTO:+1000
TZNAME:AEST
END:STANDARD
END:VTIMEZONE
END:VCALENDAR