BEGIN:VCALENDAR
VERSION:2.0
PRODID:-//wp-events-plugin.com//7.2.3.1//EN
TZID:Australia/Sydney
X-WR-TIMEZONE:Australia/Sydney
BEGIN:VEVENT
UID:2573@unswoc.org
DTSTART;TZID=Australia/Sydney:20191031T183000
DTEND;TZID=Australia/Sydney:20191031T200000
DTSTAMP:20191030T082555Z
URL:https://unswoc.org/wordpress/events/ledge-training-hauling-systems/
SUMMARY:Ledge Training – Hauling Systems
DESCRIPTION:This week at the ledge Jenny and I will be working on hauling s
 ystems! We will go through a few common types of hauling systems and the g
 ear you will need to make these work. The goal of this workshop is to prac
 tice setting up and using various systems that may be useful in different 
 situations. Hauling is a good skill to have if you are getting into multi-
 pitch climbing and can be handy in certain circumstances\, although ideall
 y you'll rarely need to use it!\n\nIf you have any questions\, send me a m
 essage (I’m Ash btw)\n\n&nbsp\;\n\nWhat you need:\n\nHarness\n\nATC (in 
 guide mode)\n\nPersonal Anchor System (a safety)\n\nLocking Carabiners x 3
 \n\nPrussik x 2
CATEGORIES:Training
END:VEVENT
BEGIN:VTIMEZONE
TZID:Australia/Sydney
X-LIC-LOCATION:Australia/Sydney
BEGIN:DAYLIGHT
DTSTART:20191006T030000
TZOFFSETFROM:+1000
TZOFFSETTO:+1100
TZNAME:AEDT
END:DAYLIGHT
END:VTIMEZONE
END:VCALENDAR