BEGIN:VCALENDAR
VERSION:2.0
PRODID:-//wp-events-plugin.com//7.2.3.1//EN
TZID:Australia/Sydney
X-WR-TIMEZONE:Australia/Sydney
BEGIN:VEVENT
UID:2478@unswoc.org
DTSTART;TZID=Australia/Sydney:20191003T183000
DTEND;TZID=Australia/Sydney:20191003T210000
DTSTAMP:20191001T030952Z
URL:https://unswoc.org/wordpress/events/ledge-training-anchors-and-top-bel
 ay/
SUMMARY:Ledge Training - Anchors and Top Belay
DESCRIPTION:This week at the ledge we're working on anchor building and top
  belaying! We will go through a few common types of anchor systems and wha
 t gear you will need to build an anchor outdoors. There are many variables
  in anchor building\, making it almost impossible to show how to construct
  an anchor for every scenario. The goal of this workshop is to give you an
  understanding of the principles of anchor building while showing a few co
 mmon ways to construct an anchor system.\n\nFor most sport climbs\, you wi
 ll be belaying form the bottom\, just like at the Ledge or st peters. Howe
 ver\, if you are getting serious about outdoor climbing\, multi-pitching w
 ill most definitely be part of the equation. Top belaying is an integral p
 art of multi-pitching which allows you to belay a climber at the top of th
 e climb.\n\nIf you are keen to go outdoors and have an adventure\, come to
  this workshop and learn how to be a self-sufficient climber! c: If you ha
 ve any questions\, slide in my dm c: (I'm Jeffrey btw)\n\n&nbsp\;\n\nWhat 
 you need:\n\nHarness\n\nATC (in guide mode)\n\nPersonal Anchor System (a s
 afety)\n\nLocking Carabiners x 3\n\n
CATEGORIES:Training
END:VEVENT
BEGIN:VTIMEZONE
TZID:Australia/Sydney
X-LIC-LOCATION:Australia/Sydney
BEGIN:STANDARD
DTSTART:20190407T020000
TZOFFSETFROM:+1100
TZOFFSETTO:+1000
TZNAME:AEST
END:STANDARD
END:VTIMEZONE
END:VCALENDAR