BEGIN:VCALENDAR
VERSION:2.0
PRODID:-//wp-events-plugin.com//7.2.3.1//EN
TZID:Australia/Sydney
X-WR-TIMEZONE:Australia/Sydney
BEGIN:VEVENT
UID:3521@unswoc.org
DTSTART;TZID=Australia/Sydney:20250130T180000
DTEND;TZID=Australia/Sydney:20250130T210000
DTSTAMP:20250121T035310Z
URL:https://unswoc.org/wordpress/events/ledge-farewell-bbq/
SUMMARY:POSTPONED - Ledge Farewell BBQ
DESCRIPTION:!!POSTPONED!!\n&nbsp\;\n\nWe've had some good news! The Ledge w
 ill remain open for a little while longer. Updates will be posted to socia
 ls. Thank you to all of you who signed the petition as well as those of yo
 u who wrote about what the gym means to you and our community. You've help
 ed make a big difference.\n\n\n\nHey Everyone\,\n\nIt's with heavy hearts 
 that the club will be saying goodbye to the Ledge Climbing centre this yea
 r. The Sydney University Board has made a final decision to keep the gym o
 pen until January 31st\, then moving forward a closure date will be review
 ed fortnightly. There will be announcements via our socials when this occu
 rs.\n\nThank you to all those who wrote letters and the 851 of you who sig
 ned our petition. Almost 500 of you who signed shared the impact and impor
 tance of the ledge and we are very much appreciative of your time and effo
 rt in responding.\n\nThis gym has been such an important part of our commu
 nity for many years now. It has been the perfect place to make new friends
  and see old ones\, have a climb and learn new skills\, and even to get ro
 ck hard abs and a core of steel (thank you Bennett\, Daniel and Caitlin fo
 r all the core sessions).\n\n\n\nThank you to Pete for making the gym what
  it is today and putting up with our shenanigans over the years. It wouldn
 't have been the same without him. We'd also like to thank Veronique\, Tom
 \, Caitlin\, Gabriel and Tahlia for all their hard work\, and amazing sett
 ing.\n\nNow for the bittersweet fun stuff:\n\n&nbsp\;\nThe Ledge Farewell 
 BBQ!\nThe UNSW Outdoors Club would like to invite you to come for a climb 
 and free snag at the Ledge on Thursday January 30th at 6pm! Even if you've
  never been to the Ledge or climbed before\, now's your chance! Bring your
  friends and let's have a good time!\n\nThis is a combined event with othe
 r outdoor and climbing clubs so be sure to harass your friends from there 
 to come along too!\n\n\n\n\n\nIf you have any questions\, feel free to rea
 ch out to me (Amelia V) on messenger or email president@unswoc.org\n\nLook
 ing forward to seeing you all there!
CATEGORIES:Indoor Climbing,Social Event
LOCATION:https://www.bing.com/ck/a?!&&p=73780758d269e0e94f5b21d9ae61b873a95
 1958676b53b8a3f43365933b07ebaJmltdHM9MTczNjg5OTIwMA&ptn=3&ver=2&hsh=4&fcli
 d=0e0e7d8b-c2b2-6316-177a-68bac3236261&u=a1L21hcHM_Jm1lcGk9MTAxfn5Vbmtub3d
 ufkFkZHJlc3NfTGluayZ0eT0xOCZxPVRoZSUyMExlZGdlJTIwQ2xpbWJpbmclMjBDZW50cmUmc
 3M9eXBpZC5ZTjM3MjR4MTU2MTI1MDkwMTc3NDI4NTk0MTQmcHBvaXM9LTMzLjg4NzU4ODUwMDk
 3NjU2XzE1MS4xODY0MDEzNjcxODc1X1RoZSUyMExlZGdlJTIwQ2xpbWJpbmclMjBDZW50cmVfW
 U4zNzI0eDE1NjEyNTA5MDE3NzQyODU5NDE0fiZjcD0tMzMuODg3NTg5fjE1MS4xODY0MDEmdj0
 yJnNWPTEmRk9STT1NUFNSUEw&ntb=1
END:VEVENT
BEGIN:VTIMEZONE
TZID:Australia/Sydney
X-LIC-LOCATION:Australia/Sydney
BEGIN:DAYLIGHT
DTSTART:20241006T030000
TZOFFSETFROM:+1000
TZOFFSETTO:+1100
TZNAME:AEDT
END:DAYLIGHT
END:VTIMEZONE
END:VCALENDAR