BEGIN:VCALENDAR
VERSION:2.0
PRODID:-//wp-events-plugin.com//7.2.3.1//EN
TZID:Australia/Sydney
X-WR-TIMEZONE:Australia/Sydney
BEGIN:VEVENT
UID:3392@unswoc.org
DTSTART;TZID=Australia/Sydney:20240308T170000
DTEND;TZID=Australia/Sydney:20240308T190000
DTSTAMP:20240302T075612Z
URL:https://unswoc.org/wordpress/events/ledge-climbing-lessons/
SUMMARY:Ledge Climbing Lessons
DESCRIPTION:&nbsp\;\n\nHey Everyone!\n\nAre you new to climbing and want to
  work on your technique? We have the perfect opportunity for you to learn!
  The lovely staff at the ledge will be running affordable lessons on Frida
 ys!\n\n&nbsp\;\nWhen and Where?\nThe first lessons will run on Friday Marc
 h 8\, 5pm at the Ledge Climbing centre located in Sydney University.\n\n&n
 bsp\;\nWho can sign up?\nIf you want to work on your climbing technique an
 d learn all the tips and tricks so you can improve\, you're more than welc
 ome to sign up! This will be a great beginner friendly experience and a wo
 nderful opportunity to learn.\n\nIf you have friends who just want to come
  climb\, that's ok too! UNSWOC members have $10 entry so members can just 
 show up on the night to get some climbing and training in. No sign up requ
 ired.\n\n&nbsp\;\nWhat's the cost?\nFor the lesson and entry combined\, yo
 u'll only pay $17! It is $10 for your entry and $7 for your lesson.\n\n&nb
 sp\;\nSound good? Here's how you sign up:\nMake sure you're logged into th
 e website and sign up below. Please write your climbing experience in the
  comment and what you would be looking to get out of a lesson.\n\nIf you w
 ould like come to a Friday lesson but can only make a later time\, please 
 put the time that could work for you in the comment and we will see if we 
 can do it another week.\n\n\n\nSign up now! Spots are limited!\n\nIf you h
 ave any questions\, feel free to contact Amelia on messenger (https://www.
 facebook.com/amelia.vas.520/)
CATEGORIES:Indoor Climbing,Training
LOCATION:https://maps.app.goo.gl/HrEEdPHFFAZzk9kS8
END:VEVENT
BEGIN:VTIMEZONE
TZID:Australia/Sydney
X-LIC-LOCATION:Australia/Sydney
BEGIN:DAYLIGHT
DTSTART:20231001T030000
TZOFFSETFROM:+1000
TZOFFSETTO:+1100
TZNAME:AEDT
END:DAYLIGHT
END:VTIMEZONE
END:VCALENDAR